BEGIN:VCALENDAR
VERSION:2.0
PRODID:-//Beth-Haran Ministries - ECPv6.15.20//NONSGML v1.0//EN
CALSCALE:GREGORIAN
METHOD:PUBLISH
X-WR-CALNAME:Beth-Haran Ministries
X-ORIGINAL-URL:https://www.bethharan.co.za
X-WR-CALDESC:Events for Beth-Haran Ministries
REFRESH-INTERVAL;VALUE=DURATION:PT1H
X-Robots-Tag:noindex
X-PUBLISHED-TTL:PT1H
BEGIN:VTIMEZONE
TZID:Africa/Johannesburg
BEGIN:STANDARD
TZOFFSETFROM:+0200
TZOFFSETTO:+0200
TZNAME:SAST
DTSTART:20250101T000000
END:STANDARD
END:VTIMEZONE
BEGIN:VEVENT
DTSTART;TZID=Africa/Johannesburg:20260429T190000
DTEND;TZID=Africa/Johannesburg:20260429T210000
DTSTAMP:20260425T181623
CREATED:20260424T163454Z
LAST-MODIFIED:20260424T163456Z
UID:10000140-1777489200-1777496400@www.bethharan.co.za
SUMMARY:Cell Group
DESCRIPTION:Please join us for Cell Group as we delve into exciting teachings and discussions about God’s Word! \nYou can join at one of our satellite locations\, or alternatively via Zoom (the link is sent out on our WhatsApp Announcement Group). \nFeel free to contact one of our leaders for more information!
URL:https://www.bethharan.co.za/event/cell-group/2026-04-29/
CATEGORIES:Upcoming Events
ATTACH;FMTTYPE=image/jpeg:https://www.bethharan.co.za/wp-content/uploads/2025/12/Cell-Group-Advert.jpg
ORGANIZER;CN="Beth-Haran Ministries":MAILTO:houseofgrace@bethharan.co.za
END:VEVENT
BEGIN:VEVENT
DTSTART;TZID=Africa/Johannesburg:20260506T190000
DTEND;TZID=Africa/Johannesburg:20260506T210000
DTSTAMP:20260425T181623
CREATED:20260424T163454Z
LAST-MODIFIED:20260424T163456Z
UID:10000141-1778094000-1778101200@www.bethharan.co.za
SUMMARY:Cell Group
DESCRIPTION:Please join us for Cell Group as we delve into exciting teachings and discussions about God’s Word! \nYou can join at one of our satellite locations\, or alternatively via Zoom (the link is sent out on our WhatsApp Announcement Group). \nFeel free to contact one of our leaders for more information!
URL:https://www.bethharan.co.za/event/cell-group/2026-05-06/
CATEGORIES:Upcoming Events
ATTACH;FMTTYPE=image/jpeg:https://www.bethharan.co.za/wp-content/uploads/2025/12/Cell-Group-Advert.jpg
ORGANIZER;CN="Beth-Haran Ministries":MAILTO:houseofgrace@bethharan.co.za
END:VEVENT
BEGIN:VEVENT
DTSTART;TZID=Africa/Johannesburg:20260513T190000
DTEND;TZID=Africa/Johannesburg:20260513T210000
DTSTAMP:20260425T181623
CREATED:20260424T163454Z
LAST-MODIFIED:20260424T163456Z
UID:10000142-1778698800-1778706000@www.bethharan.co.za
SUMMARY:Cell Group
DESCRIPTION:Please join us for Cell Group as we delve into exciting teachings and discussions about God’s Word! \nYou can join at one of our satellite locations\, or alternatively via Zoom (the link is sent out on our WhatsApp Announcement Group). \nFeel free to contact one of our leaders for more information!
URL:https://www.bethharan.co.za/event/cell-group/2026-05-13/
CATEGORIES:Upcoming Events
ATTACH;FMTTYPE=image/jpeg:https://www.bethharan.co.za/wp-content/uploads/2025/12/Cell-Group-Advert.jpg
ORGANIZER;CN="Beth-Haran Ministries":MAILTO:houseofgrace@bethharan.co.za
END:VEVENT
BEGIN:VEVENT
DTSTART;TZID=Africa/Johannesburg:20260520T190000
DTEND;TZID=Africa/Johannesburg:20260520T210000
DTSTAMP:20260425T181623
CREATED:20260424T163454Z
LAST-MODIFIED:20260424T163456Z
UID:10000143-1779303600-1779310800@www.bethharan.co.za
SUMMARY:Cell Group
DESCRIPTION:Please join us for Cell Group as we delve into exciting teachings and discussions about God’s Word! \nYou can join at one of our satellite locations\, or alternatively via Zoom (the link is sent out on our WhatsApp Announcement Group). \nFeel free to contact one of our leaders for more information!
URL:https://www.bethharan.co.za/event/cell-group/2026-05-20/
CATEGORIES:Upcoming Events
ATTACH;FMTTYPE=image/jpeg:https://www.bethharan.co.za/wp-content/uploads/2025/12/Cell-Group-Advert.jpg
ORGANIZER;CN="Beth-Haran Ministries":MAILTO:houseofgrace@bethharan.co.za
END:VEVENT
BEGIN:VEVENT
DTSTART;TZID=Africa/Johannesburg:20260527T190000
DTEND;TZID=Africa/Johannesburg:20260527T210000
DTSTAMP:20260425T181623
CREATED:20260424T163454Z
LAST-MODIFIED:20260424T163456Z
UID:10000144-1779908400-1779915600@www.bethharan.co.za
SUMMARY:Cell Group
DESCRIPTION:Please join us for Cell Group as we delve into exciting teachings and discussions about God’s Word! \nYou can join at one of our satellite locations\, or alternatively via Zoom (the link is sent out on our WhatsApp Announcement Group). \nFeel free to contact one of our leaders for more information!
URL:https://www.bethharan.co.za/event/cell-group/2026-05-27/
CATEGORIES:Upcoming Events
ATTACH;FMTTYPE=image/jpeg:https://www.bethharan.co.za/wp-content/uploads/2025/12/Cell-Group-Advert.jpg
ORGANIZER;CN="Beth-Haran Ministries":MAILTO:houseofgrace@bethharan.co.za
END:VEVENT
BEGIN:VEVENT
DTSTART;TZID=Africa/Johannesburg:20260603T190000
DTEND;TZID=Africa/Johannesburg:20260603T210000
DTSTAMP:20260425T181623
CREATED:20260424T163454Z
LAST-MODIFIED:20260424T163456Z
UID:10000145-1780513200-1780520400@www.bethharan.co.za
SUMMARY:Cell Group
DESCRIPTION:Please join us for Cell Group as we delve into exciting teachings and discussions about God’s Word! \nYou can join at one of our satellite locations\, or alternatively via Zoom (the link is sent out on our WhatsApp Announcement Group). \nFeel free to contact one of our leaders for more information!
URL:https://www.bethharan.co.za/event/cell-group/2026-06-03/
CATEGORIES:Upcoming Events
ATTACH;FMTTYPE=image/jpeg:https://www.bethharan.co.za/wp-content/uploads/2025/12/Cell-Group-Advert.jpg
ORGANIZER;CN="Beth-Haran Ministries":MAILTO:houseofgrace@bethharan.co.za
END:VEVENT
BEGIN:VEVENT
DTSTART;TZID=Africa/Johannesburg:20260610T190000
DTEND;TZID=Africa/Johannesburg:20260610T210000
DTSTAMP:20260425T181623
CREATED:20260424T163454Z
LAST-MODIFIED:20260424T163456Z
UID:10000146-1781118000-1781125200@www.bethharan.co.za
SUMMARY:Cell Group
DESCRIPTION:Please join us for Cell Group as we delve into exciting teachings and discussions about God’s Word! \nYou can join at one of our satellite locations\, or alternatively via Zoom (the link is sent out on our WhatsApp Announcement Group). \nFeel free to contact one of our leaders for more information!
URL:https://www.bethharan.co.za/event/cell-group/2026-06-10/
CATEGORIES:Upcoming Events
ATTACH;FMTTYPE=image/jpeg:https://www.bethharan.co.za/wp-content/uploads/2025/12/Cell-Group-Advert.jpg
ORGANIZER;CN="Beth-Haran Ministries":MAILTO:houseofgrace@bethharan.co.za
END:VEVENT
BEGIN:VEVENT
DTSTART;TZID=Africa/Johannesburg:20260617T190000
DTEND;TZID=Africa/Johannesburg:20260617T210000
DTSTAMP:20260425T181623
CREATED:20260424T163454Z
LAST-MODIFIED:20260424T163456Z
UID:10000147-1781722800-1781730000@www.bethharan.co.za
SUMMARY:Cell Group
DESCRIPTION:Please join us for Cell Group as we delve into exciting teachings and discussions about God’s Word! \nYou can join at one of our satellite locations\, or alternatively via Zoom (the link is sent out on our WhatsApp Announcement Group). \nFeel free to contact one of our leaders for more information!
URL:https://www.bethharan.co.za/event/cell-group/2026-06-17/
CATEGORIES:Upcoming Events
ATTACH;FMTTYPE=image/jpeg:https://www.bethharan.co.za/wp-content/uploads/2025/12/Cell-Group-Advert.jpg
ORGANIZER;CN="Beth-Haran Ministries":MAILTO:houseofgrace@bethharan.co.za
END:VEVENT
BEGIN:VEVENT
DTSTART;TZID=Africa/Johannesburg:20260624T190000
DTEND;TZID=Africa/Johannesburg:20260624T210000
DTSTAMP:20260425T181623
CREATED:20260424T163454Z
LAST-MODIFIED:20260424T163456Z
UID:10000148-1782327600-1782334800@www.bethharan.co.za
SUMMARY:Cell Group
DESCRIPTION:Please join us for Cell Group as we delve into exciting teachings and discussions about God’s Word! \nYou can join at one of our satellite locations\, or alternatively via Zoom (the link is sent out on our WhatsApp Announcement Group). \nFeel free to contact one of our leaders for more information!
URL:https://www.bethharan.co.za/event/cell-group/2026-06-24/
CATEGORIES:Upcoming Events
ATTACH;FMTTYPE=image/jpeg:https://www.bethharan.co.za/wp-content/uploads/2025/12/Cell-Group-Advert.jpg
ORGANIZER;CN="Beth-Haran Ministries":MAILTO:houseofgrace@bethharan.co.za
END:VEVENT
END:VCALENDAR