BEGIN:VCALENDAR
VERSION:2.0
PRODID:-//Beth-Haran Ministries - ECPv6.15.20//NONSGML v1.0//EN
CALSCALE:GREGORIAN
METHOD:PUBLISH
X-ORIGINAL-URL:https://www.bethharan.co.za
X-WR-CALDESC:Events for Beth-Haran Ministries
REFRESH-INTERVAL;VALUE=DURATION:PT1H
X-Robots-Tag:noindex
X-PUBLISHED-TTL:PT1H
BEGIN:VTIMEZONE
TZID:Africa/Johannesburg
BEGIN:STANDARD
TZOFFSETFROM:+0200
TZOFFSETTO:+0200
TZNAME:SAST
DTSTART:20240101T000000
END:STANDARD
END:VTIMEZONE
BEGIN:VEVENT
DTSTART;TZID=Africa/Johannesburg:20250727T090000
DTEND;TZID=Africa/Johannesburg:20250727T120000
DTSTAMP:20260420T014815
CREATED:20250528T163152Z
LAST-MODIFIED:20250528T163152Z
UID:4515-1753606800-1753617600@www.bethharan.co.za
SUMMARY:Discipleship Course: Houtkruis Kerk 27 July
DESCRIPTION:
URL:https://www.bethharan.co.za/event/discipleship-course-houtkruis-kerk-27-july/
LOCATION:Houtkruis Kerk\, 26 Letaba St\, Three Rivers\, Vereeniging\, Gauteng\, 1935\, South Africa
CATEGORIES:Upcoming Events
ATTACH;FMTTYPE=image/jpeg:https://www.bethharan.co.za/wp-content/uploads/2025/05/Houtkruis-Discipleship-July-2025.jpeg
ORGANIZER;CN="Beth-Haran Ministries":MAILTO:houseofgrace@bethharan.co.za
END:VEVENT
BEGIN:VEVENT
DTSTART;TZID=Africa/Johannesburg:20250726T083000
DTEND;TZID=Africa/Johannesburg:20250726T160000
DTSTAMP:20260420T014815
CREATED:20250528T163036Z
LAST-MODIFIED:20250528T163118Z
UID:4513-1753518600-1753545600@www.bethharan.co.za
SUMMARY:Discipleship Course: Houtkruis Kerk 26 July
DESCRIPTION:
URL:https://www.bethharan.co.za/event/discipleship-course-houtkruis-kerk-26-july/
LOCATION:Houtkruis Kerk\, 26 Letaba St\, Three Rivers\, Vereeniging\, Gauteng\, 1935\, South Africa
CATEGORIES:Upcoming Events
ATTACH;FMTTYPE=image/jpeg:https://www.bethharan.co.za/wp-content/uploads/2025/05/Houtkruis-Discipleship-July-2025.jpeg
ORGANIZER;CN="Beth-Haran Ministries":MAILTO:houseofgrace@bethharan.co.za
END:VEVENT
BEGIN:VEVENT
DTSTART;TZID=Africa/Johannesburg:20250719T083000
DTEND;TZID=Africa/Johannesburg:20250719T160000
DTSTAMP:20260420T014815
CREATED:20250528T162922Z
LAST-MODIFIED:20250528T162922Z
UID:4509-1752913800-1752940800@www.bethharan.co.za
SUMMARY:Discipleship Course: Houtkruis Kerk 19 July
DESCRIPTION:
URL:https://www.bethharan.co.za/event/discipleship-course-houtkruis-kerk-19-july/
LOCATION:Houtkruis Kerk\, 26 Letaba St\, Three Rivers\, Vereeniging\, Gauteng\, 1935\, South Africa
CATEGORIES:Upcoming Events
ATTACH;FMTTYPE=image/jpeg:https://www.bethharan.co.za/wp-content/uploads/2025/05/Houtkruis-Discipleship-July-2025.jpeg
ORGANIZER;CN="Beth-Haran Ministries":MAILTO:houseofgrace@bethharan.co.za
END:VEVENT
BEGIN:VEVENT
DTSTART;TZID=Africa/Johannesburg:20250706T120000
DTEND;TZID=Africa/Johannesburg:20250706T130000
DTSTAMP:20260420T014815
CREATED:20250609T155632Z
LAST-MODIFIED:20250609T155632Z
UID:4871-1751803200-1751806800@www.bethharan.co.za
SUMMARY:Curry & Rice Fundraiser
DESCRIPTION:
URL:https://www.bethharan.co.za/event/curry-rice-fundraiser/
LOCATION:Beth-Haran Ministries\, 6 Venda St\, Sebenza\, Edenvale\, Gauteng\, 1609\, South Africa
CATEGORIES:Upcoming Events
ATTACH;FMTTYPE=image/jpeg:https://www.bethharan.co.za/wp-content/uploads/2025/06/Fundraiser-6-July-2025.jpeg
ORGANIZER;CN="Beth-Haran Ministries":MAILTO:houseofgrace@bethharan.co.za
END:VEVENT
BEGIN:VEVENT
DTSTART;VALUE=DATE:20250705
DTEND;VALUE=DATE:20250706
DTSTAMP:20260420T014816
CREATED:20250214T142326Z
LAST-MODIFIED:20250214T164712Z
UID:1753-1751673600-1751759999@www.bethharan.co.za
SUMMARY:Winter Drive 2025
DESCRIPTION:
URL:https://www.bethharan.co.za/event/winter-drive-2025/
LOCATION:Gauteng
CATEGORIES:Upcoming Events
ATTACH;FMTTYPE=image/jpeg:https://www.bethharan.co.za/wp-content/uploads/2025/02/Winter-Drive-2025.jpg
ORGANIZER;CN="Beth-Haran Ministries":MAILTO:houseofgrace@bethharan.co.za
END:VEVENT
BEGIN:VEVENT
DTSTART;TZID=Africa/Johannesburg:20250628T090000
DTEND;TZID=Africa/Johannesburg:20250628T130000
DTSTAMP:20260420T014816
CREATED:20250214T165147Z
LAST-MODIFIED:20250609T155406Z
UID:1789-1751101200-1751115600@www.bethharan.co.za
SUMMARY:Youth - 28 June 2025
DESCRIPTION:
URL:https://www.bethharan.co.za/event/youth-27-june-2025/
LOCATION:Gauteng
CATEGORIES:Upcoming Events
ATTACH;FMTTYPE=image/jpeg:https://www.bethharan.co.za/wp-content/uploads/2025/02/Youth-28-June-2025.jpeg
ORGANIZER;CN="Beth-Haran Ministries":MAILTO:houseofgrace@bethharan.co.za
END:VEVENT
BEGIN:VEVENT
DTSTART;TZID=Africa/Johannesburg:20250625T190000
DTEND;TZID=Africa/Johannesburg:20250625T210000
DTSTAMP:20260420T014816
CREATED:20250505T193030Z
LAST-MODIFIED:20250505T193030Z
UID:3966-1750878000-1750885200@www.bethharan.co.za
SUMMARY:70×7: Session 6: How Can God Forgive Anyone for Everything?
DESCRIPTION:Are you drinking poison\, and hoping that it hurts someone else?\n\n\n\n\nThis course is for you! Take this course to find out how to find peace by forgiving others and yourself!
URL:https://www.bethharan.co.za/event/70x7-session-6-how-can-god-forgive-anyone-for-everything/
LOCATION:Gauteng
CATEGORIES:Upcoming Events
ATTACH;FMTTYPE=image/jpeg:https://www.bethharan.co.za/wp-content/uploads/2025/05/70x7.jpg
ORGANIZER;CN="Beth-Haran Ministries":MAILTO:houseofgrace@bethharan.co.za
END:VEVENT
BEGIN:VEVENT
DTSTART;TZID=Africa/Johannesburg:20250621T083000
DTEND;TZID=Africa/Johannesburg:20250621T120000
DTSTAMP:20260420T014816
CREATED:20250214T171548Z
LAST-MODIFIED:20250528T162234Z
UID:1812-1750494600-1750507200@www.bethharan.co.za
SUMMARY:Beth-Haran Street Ministry: Potchefstroom
DESCRIPTION:
URL:https://www.bethharan.co.za/event/beth-haran-street-ministry-potchefstroom/
LOCATION:Gauteng
CATEGORIES:Upcoming Events
ATTACH;FMTTYPE=image/jpeg:https://www.bethharan.co.za/wp-content/uploads/2025/02/Street-Ministry-21-June.jpeg
ORGANIZER;CN="Beth-Haran Ministries":MAILTO:houseofgrace@bethharan.co.za
END:VEVENT
BEGIN:VEVENT
DTSTART;TZID=Africa/Johannesburg:20250618T190000
DTEND;TZID=Africa/Johannesburg:20250618T210000
DTSTAMP:20260420T014816
CREATED:20250505T192532Z
LAST-MODIFIED:20250505T192532Z
UID:3964-1750273200-1750280400@www.bethharan.co.za
SUMMARY:70×7: Session 5: God Commits to Handle Vengeance for You
DESCRIPTION:Are you drinking poison\, and hoping that it hurts someone else?\n\n\n\n\nThis course is for you! Take this course to find out how to find peace by forgiving others and yourself!
URL:https://www.bethharan.co.za/event/70x7-session-5-god-commits-to-handle-vengeance-for-you/
LOCATION:Gauteng
CATEGORIES:Upcoming Events
ATTACH;FMTTYPE=image/jpeg:https://www.bethharan.co.za/wp-content/uploads/2025/05/70x7.jpg
ORGANIZER;CN="Beth-Haran Ministries":MAILTO:houseofgrace@bethharan.co.za
END:VEVENT
BEGIN:VEVENT
DTSTART;VALUE=DATE:20250614
DTEND;VALUE=DATE:20250615
DTSTAMP:20260420T014816
CREATED:20250214T170902Z
LAST-MODIFIED:20250214T170902Z
UID:1805-1749859200-1749945599@www.bethharan.co.za
SUMMARY:Eventide: Father's Day Fellowship 2025
DESCRIPTION:
URL:https://www.bethharan.co.za/event/eventide-fathers-day-fellowship-2025/
LOCATION:Eventide Home\, 7 Derby Avenue\, Brakpan\, Gauteng\, 1540\, South Africa
CATEGORIES:Upcoming Events
ATTACH;FMTTYPE=image/jpeg:https://www.bethharan.co.za/wp-content/uploads/2025/02/Fathers-Day-Eventide.jpg
ORGANIZER;CN="Beth-Haran Ministries":MAILTO:houseofgrace@bethharan.co.za
END:VEVENT
BEGIN:VEVENT
DTSTART;TZID=Africa/Johannesburg:20250611T190000
DTEND;TZID=Africa/Johannesburg:20250611T210000
DTSTAMP:20260420T014816
CREATED:20250505T192407Z
LAST-MODIFIED:20250505T192407Z
UID:3962-1749668400-1749675600@www.bethharan.co.za
SUMMARY:70×7: Session 4: Steps to Follow to Forgive Other People
DESCRIPTION:Are you drinking poison\, and hoping that it hurts someone else?\n\n\n\n\nThis course is for you! Take this course to find out how to find peace by forgiving others and yourself!
URL:https://www.bethharan.co.za/event/70x7-session-4-steps-to-follow-to-forgive-other-people/
LOCATION:Gauteng
CATEGORIES:Upcoming Events
ATTACH;FMTTYPE=image/jpeg:https://www.bethharan.co.za/wp-content/uploads/2025/05/70x7.jpg
ORGANIZER;CN="Beth-Haran Ministries":MAILTO:houseofgrace@bethharan.co.za
END:VEVENT
BEGIN:VEVENT
DTSTART;TZID=Africa/Johannesburg:20250603T183000
DTEND;TZID=Africa/Johannesburg:20250605T210000
DTSTAMP:20260420T014816
CREATED:20250214T165918Z
LAST-MODIFIED:20250221T162428Z
UID:1798-1748975400-1749157200@www.bethharan.co.za
SUMMARY:Pentecost Teachings 2025
DESCRIPTION:
URL:https://www.bethharan.co.za/event/pentecost-teachings-2025/
LOCATION:Gauteng
CATEGORIES:Upcoming Events
ATTACH;FMTTYPE=image/jpeg:https://www.bethharan.co.za/wp-content/uploads/2025/02/Pentecost-2025.jpg
ORGANIZER;CN="Beth-Haran Ministries":MAILTO:houseofgrace@bethharan.co.za
END:VEVENT
BEGIN:VEVENT
DTSTART;TZID=Africa/Johannesburg:20250530T183000
DTEND;TZID=Africa/Johannesburg:20250530T210000
DTSTAMP:20260420T014816
CREATED:20250214T165050Z
LAST-MODIFIED:20250221T161753Z
UID:1787-1748629800-1748638800@www.bethharan.co.za
SUMMARY:Youth - 30 May 2025
DESCRIPTION:
URL:https://www.bethharan.co.za/event/youth-30-may-2025/
LOCATION:Gauteng
CATEGORIES:Upcoming Events
ATTACH;FMTTYPE=image/jpeg:https://www.bethharan.co.za/wp-content/uploads/2025/02/Youth-1.jpg
ORGANIZER;CN="Beth-Haran Ministries":MAILTO:houseofgrace@bethharan.co.za
END:VEVENT
BEGIN:VEVENT
DTSTART;TZID=Africa/Johannesburg:20250528T190000
DTEND;TZID=Africa/Johannesburg:20250528T210000
DTSTAMP:20260420T014816
CREATED:20250505T192225Z
LAST-MODIFIED:20250505T192225Z
UID:3960-1748458800-1748466000@www.bethharan.co.za
SUMMARY:70×7: Session 3: What Happens to You When You Don't Forgive Other
DESCRIPTION:Are you drinking poison\, and hoping that it hurts someone else?\n\n\n\n\nThis course is for you! Take this course to find out how to find peace by forgiving others and yourself!
URL:https://www.bethharan.co.za/event/70x7-session-3-what-happens-to-you-when-you-dont-forgive-other/
LOCATION:Gauteng
CATEGORIES:Upcoming Events
ATTACH;FMTTYPE=image/jpeg:https://www.bethharan.co.za/wp-content/uploads/2025/05/70x7.jpg
ORGANIZER;CN="Beth-Haran Ministries":MAILTO:houseofgrace@bethharan.co.za
END:VEVENT
BEGIN:VEVENT
DTSTART;TZID=Africa/Johannesburg:20250521T190000
DTEND;TZID=Africa/Johannesburg:20250521T210000
DTSTAMP:20260420T014816
CREATED:20250505T192024Z
LAST-MODIFIED:20250505T192024Z
UID:3950-1747854000-1747861200@www.bethharan.co.za
SUMMARY:70×7: Session 2: Five Requirements for Lasting Forgiveness
DESCRIPTION:Are you drinking poison\, and hoping that it hurts someone else?\n\n\n\n\nThis course is for you! Take this course to find out how to find peace by forgiving others and yourself!
URL:https://www.bethharan.co.za/event/70x7-session-2-five-requirements-for-lasting-forgiveness/
LOCATION:Gauteng
CATEGORIES:Upcoming Events
ATTACH;FMTTYPE=image/jpeg:https://www.bethharan.co.za/wp-content/uploads/2025/05/70x7.jpg
ORGANIZER;CN="Beth-Haran Ministries":MAILTO:houseofgrace@bethharan.co.za
END:VEVENT
BEGIN:VEVENT
DTSTART;TZID=Africa/Johannesburg:20250514T190000
DTEND;TZID=Africa/Johannesburg:20250514T210000
DTSTAMP:20260420T014816
CREATED:20250505T191519Z
LAST-MODIFIED:20250505T191721Z
UID:3925-1747249200-1747256400@www.bethharan.co.za
SUMMARY:70×7: Session 1: Unforgiveness Delivers You to the Torturers
DESCRIPTION:Are you drinking poison\, and hoping that it hurts someone else?\n\n\n\n\nThis course is for you! Take this course to find out how to find peace by forgiving others and yourself!
URL:https://www.bethharan.co.za/event/70x7-finding-peace-by-forgiving-others-and-yourself/
LOCATION:Gauteng
CATEGORIES:Upcoming Events
ATTACH;FMTTYPE=image/jpeg:https://www.bethharan.co.za/wp-content/uploads/2025/05/70x7.jpg
ORGANIZER;CN="Beth-Haran Ministries":MAILTO:houseofgrace@bethharan.co.za
END:VEVENT
BEGIN:VEVENT
DTSTART;VALUE=DATE:20250510
DTEND;VALUE=DATE:20250511
DTSTAMP:20260420T014816
CREATED:20250214T170801Z
LAST-MODIFIED:20250214T170801Z
UID:1802-1746835200-1746921599@www.bethharan.co.za
SUMMARY:Eventide: Mother's Day Fellowship 2025
DESCRIPTION:
URL:https://www.bethharan.co.za/event/eventide-mothers-day-fellowship-2025/
LOCATION:Eventide Home\, 7 Derby Avenue\, Brakpan\, Gauteng\, 1540\, South Africa
CATEGORIES:Upcoming Events
ATTACH;FMTTYPE=image/jpeg:https://www.bethharan.co.za/wp-content/uploads/2025/02/Mothers-Day-Eventide.jpg
ORGANIZER;CN="Beth-Haran Ministries":MAILTO:houseofgrace@bethharan.co.za
END:VEVENT
BEGIN:VEVENT
DTSTART;TZID=Africa/Johannesburg:20250504T100000
DTEND;TZID=Africa/Johannesburg:20250504T120000
DTSTAMP:20260420T014816
CREATED:20250423T143151Z
LAST-MODIFIED:20250423T143151Z
UID:3583-1746352800-1746360000@www.bethharan.co.za
SUMMARY:Guest Preacher: Pastor Kwena Segona
DESCRIPTION:
URL:https://www.bethharan.co.za/event/guest-preacher-pastor-kwena-segona/
LOCATION:Beth-Haran Ministries\, 6 Venda St\, Sebenza\, Edenvale\, Gauteng\, 1609\, South Africa
CATEGORIES:Upcoming Events
ATTACH;FMTTYPE=image/jpeg:https://www.bethharan.co.za/wp-content/uploads/2025/04/Pastor-Kwena.jpeg
ORGANIZER;CN="Beth-Haran Ministries":MAILTO:houseofgrace@bethharan.co.za
END:VEVENT
BEGIN:VEVENT
DTSTART;TZID=Africa/Johannesburg:20250418T080000
DTEND;TZID=Africa/Johannesburg:20250418T093000
DTSTAMP:20260420T014816
CREATED:20250401T152739Z
LAST-MODIFIED:20250401T152739Z
UID:3004-1744963200-1744968600@www.bethharan.co.za
SUMMARY:Good Friday Service
DESCRIPTION:
URL:https://www.bethharan.co.za/event/good-friday-service/
LOCATION:Beth-Haran Ministries\, 6 Venda St\, Sebenza\, Edenvale\, Gauteng\, 1609\, South Africa
CATEGORIES:Upcoming Events
ATTACH;FMTTYPE=image/png:https://www.bethharan.co.za/wp-content/uploads/2025/04/Good-Friday-2025.png
ORGANIZER;CN="Beth-Haran Ministries":MAILTO:houseofgrace@bethharan.co.za
END:VEVENT
BEGIN:VEVENT
DTSTART;TZID=Africa/Johannesburg:20250411T183000
DTEND;TZID=Africa/Johannesburg:20250411T210000
DTSTAMP:20260420T014816
CREATED:20250214T171343Z
LAST-MODIFIED:20250221T161829Z
UID:1809-1744396200-1744405200@www.bethharan.co.za
SUMMARY:Soaking Session: 11 April 2025
DESCRIPTION:
URL:https://www.bethharan.co.za/event/soaking-session-11-april-2025/
LOCATION:Gauteng
CATEGORIES:Upcoming Events
ATTACH;FMTTYPE=image/jpeg:https://www.bethharan.co.za/wp-content/uploads/2025/02/Soaking-1.jpg
ORGANIZER;CN="Beth-Haran Ministries":MAILTO:houseofgrace@bethharan.co.za
END:VEVENT
BEGIN:VEVENT
DTSTART;TZID=Africa/Johannesburg:20250329T090000
DTEND;TZID=Africa/Johannesburg:20250329T130000
DTSTAMP:20260420T014816
CREATED:20250214T165537Z
LAST-MODIFIED:20250221T162114Z
UID:1791-1743238800-1743253200@www.bethharan.co.za
SUMMARY:Baptism Service: 29 March 2025
DESCRIPTION:
URL:https://www.bethharan.co.za/event/baptism-service-29-march-2025/
LOCATION:Gauteng
CATEGORIES:Upcoming Events
ATTACH;FMTTYPE=image/jpeg:https://www.bethharan.co.za/wp-content/uploads/2025/02/Baptism-Service.jpg
ORGANIZER;CN="Beth-Haran Ministries":MAILTO:houseofgrace@bethharan.co.za
END:VEVENT
BEGIN:VEVENT
DTSTART;TZID=Africa/Johannesburg:20250328T183000
DTEND;TZID=Africa/Johannesburg:20250328T210000
DTSTAMP:20260420T014816
CREATED:20250214T164848Z
LAST-MODIFIED:20250221T162151Z
UID:1785-1743186600-1743195600@www.bethharan.co.za
SUMMARY:Youth - 28 March 2025
DESCRIPTION:
URL:https://www.bethharan.co.za/event/youth-28-march-2025/
LOCATION:Gauteng
CATEGORIES:Upcoming Events
ATTACH;FMTTYPE=image/jpeg:https://www.bethharan.co.za/wp-content/uploads/2025/02/Youth-1.jpg
ORGANIZER;CN="Beth-Haran Ministries":MAILTO:houseofgrace@bethharan.co.za
END:VEVENT
BEGIN:VEVENT
DTSTART;TZID=Africa/Johannesburg:20250322T090000
DTEND;TZID=Africa/Johannesburg:20250322T113000
DTSTAMP:20260420T014816
CREATED:20250310T170821Z
LAST-MODIFIED:20250310T170905Z
UID:2135-1742634000-1742643000@www.bethharan.co.za
SUMMARY:Understanding Yourself and Others
DESCRIPTION:
URL:https://www.bethharan.co.za/event/understanding-yourself-and-others/
LOCATION:Gauteng
CATEGORIES:Upcoming Events
ATTACH;FMTTYPE=image/jpeg:https://www.bethharan.co.za/wp-content/uploads/2025/03/DGAN-Understanding-Yourself.jpg
END:VEVENT
BEGIN:VEVENT
DTSTART;TZID=Africa/Johannesburg:20250301T083000
DTEND;TZID=Africa/Johannesburg:20250301T120000
DTSTAMP:20260420T014816
CREATED:20250214T171639Z
LAST-MODIFIED:20250226T074500Z
UID:1815-1740817800-1740830400@www.bethharan.co.za
SUMMARY:Beth-Haran Street Ministry: Boksburg
DESCRIPTION:
URL:https://www.bethharan.co.za/event/beth-haran-street-ministry-boksburg/
LOCATION:Brakpan Spurs Football Club\, Brakpan Spurs Football Club\, Brakpan\, Gauteng\, 1540\, South Africa
CATEGORIES:Upcoming Events
ATTACH;FMTTYPE=image/jpeg:https://www.bethharan.co.za/wp-content/uploads/2025/02/Street-Ministry-1-March.jpg
ORGANIZER;CN="Beth-Haran Ministries":MAILTO:houseofgrace@bethharan.co.za
END:VEVENT
BEGIN:VEVENT
DTSTART;TZID=Africa/Johannesburg:20250228T183000
DTEND;TZID=Africa/Johannesburg:20250228T210000
DTSTAMP:20260420T014816
CREATED:20250214T164557Z
LAST-MODIFIED:20250221T162224Z
UID:1781-1740767400-1740776400@www.bethharan.co.za
SUMMARY:Youth - 28 February 2025
DESCRIPTION:
URL:https://www.bethharan.co.za/event/youth-28-february-2025/
LOCATION:Gauteng
CATEGORIES:Upcoming Events
ATTACH;FMTTYPE=image/jpeg:https://www.bethharan.co.za/wp-content/uploads/2025/02/Youth-1.jpg
ORGANIZER;CN="Beth-Haran Ministries":MAILTO:houseofgrace@bethharan.co.za
END:VEVENT
BEGIN:VEVENT
DTSTART;TZID=Africa/Johannesburg:20250223T100000
DTEND;TZID=Africa/Johannesburg:20250223T130000
DTSTAMP:20260420T014816
CREATED:20250220T143843Z
LAST-MODIFIED:20250220T143843Z
UID:2045-1740304800-1740315600@www.bethharan.co.za
SUMMARY:Monthly Fellowship: 23 February 2025
DESCRIPTION:
URL:https://www.bethharan.co.za/event/monthly-fellowship-23-february-2025/
LOCATION:Beth-Haran Ministries\, 6 Venda St\, Sebenza\, Edenvale\, Gauteng\, 1609\, South Africa
CATEGORIES:Upcoming Events
ATTACH;FMTTYPE=image/jpeg:https://www.bethharan.co.za/wp-content/uploads/2025/02/Monthly-Fellowship.jpg
ORGANIZER;CN="Beth-Haran Ministries":MAILTO:houseofgrace@bethharan.co.za
END:VEVENT
BEGIN:VEVENT
DTSTART;TZID=Africa/Johannesburg:20250222T090000
DTEND;TZID=Africa/Johannesburg:20250222T150000
DTSTAMP:20260420T014816
CREATED:20250214T131850Z
LAST-MODIFIED:20250214T135345Z
UID:1729-1740214800-1740236400@www.bethharan.co.za
SUMMARY:Survey of the Bible: Summary Teaching
DESCRIPTION:
URL:https://www.bethharan.co.za/event/survey-of-the-bible-summary-teaching/
LOCATION:Houtkruis Kerk\, 26 Letaba St\, Three Rivers\, Vereeniging\, Gauteng\, 1935\, South Africa
CATEGORIES:Upcoming Events
ATTACH;FMTTYPE=image/png:https://www.bethharan.co.za/wp-content/uploads/2025/02/Survey-of-the-Bible-Summary-Teaching.png
ORGANIZER;CN="Beth-Haran Ministries":MAILTO:houseofgrace@bethharan.co.za
END:VEVENT
END:VCALENDAR