BEGIN:VCALENDAR
VERSION:2.0
PRODID:-//Beth-Haran Ministries - ECPv6.15.20//NONSGML v1.0//EN
CALSCALE:GREGORIAN
METHOD:PUBLISH
X-ORIGINAL-URL:https://www.bethharan.co.za
X-WR-CALDESC:Events for Beth-Haran Ministries
REFRESH-INTERVAL;VALUE=DURATION:PT1H
X-Robots-Tag:noindex
X-PUBLISHED-TTL:PT1H
BEGIN:VTIMEZONE
TZID:Africa/Johannesburg
BEGIN:STANDARD
TZOFFSETFROM:+0200
TZOFFSETTO:+0200
TZNAME:SAST
DTSTART:20240101T000000
END:STANDARD
END:VTIMEZONE
BEGIN:VEVENT
DTSTART;TZID=Africa/Johannesburg:20251128T183000
DTEND;TZID=Africa/Johannesburg:20251128T210000
DTSTAMP:20260419T221837
CREATED:20250221T162950Z
LAST-MODIFIED:20250221T162950Z
UID:2072-1764354600-1764363600@www.bethharan.co.za
SUMMARY:Youth - 28 November 2025
DESCRIPTION:
URL:https://www.bethharan.co.za/event/youth-28-november-2025/
LOCATION:Pretoria
CATEGORIES:Upcoming Events
ATTACH;FMTTYPE=image/jpeg:https://www.bethharan.co.za/wp-content/uploads/2025/02/Youth-2.jpg
ORGANIZER;CN="Beth-Haran Ministries":MAILTO:houseofgrace@bethharan.co.za
END:VEVENT
BEGIN:VEVENT
DTSTART;TZID=Africa/Johannesburg:20251126T190000
DTEND;TZID=Africa/Johannesburg:20251126T210000
DTSTAMP:20260419T221837
CREATED:20250823T081049Z
LAST-MODIFIED:20250823T081049Z
UID:7673-1764183600-1764190800@www.bethharan.co.za
SUMMARY:Roaring Prophecies - A Study on Daniel (Week Eleven)
DESCRIPTION:
URL:https://www.bethharan.co.za/event/daniel11/
LOCATION:Pretoria
CATEGORIES:Upcoming Events
ATTACH;FMTTYPE=image/png:https://www.bethharan.co.za/wp-content/uploads/2025/08/Roaring-Prophecies-Advert.png
ORGANIZER;CN="Beth-Haran Ministries":MAILTO:houseofgrace@bethharan.co.za
END:VEVENT
BEGIN:VEVENT
DTSTART;TZID=Africa/Johannesburg:20251123T100000
DTEND;TZID=Africa/Johannesburg:20251123T120000
DTSTAMP:20260419T221837
CREATED:20251116T154310Z
LAST-MODIFIED:20251116T154310Z
UID:9318-1763892000-1763899200@www.bethharan.co.za
SUMMARY:Thanksgiving Service 2025
DESCRIPTION:Please come and join us as we give thanks to God for everything He has done for us this year\, as well as honour the individuals standing in ministry within our congregation. \nAll are welcome!
URL:https://www.bethharan.co.za/event/thanksgiving-service-2025/
LOCATION:Beth-Haran Ministries\, 6 Venda St\, Sebenza\, Edenvale\, Gauteng\, 1609\, South Africa
CATEGORIES:Upcoming Events
ATTACH;FMTTYPE=image/png:https://www.bethharan.co.za/wp-content/uploads/2025/11/Thanksgiving-Service-2025.png
ORGANIZER;CN="Beth-Haran Ministries":MAILTO:houseofgrace@bethharan.co.za
END:VEVENT
BEGIN:VEVENT
DTSTART;TZID=Africa/Johannesburg:20251119T190000
DTEND;TZID=Africa/Johannesburg:20251119T210000
DTSTAMP:20260419T221837
CREATED:20250823T080910Z
LAST-MODIFIED:20251103T065928Z
UID:7671-1763578800-1763586000@www.bethharan.co.za
SUMMARY:Roaring Prophecies - A Study on Daniel (Week Ten)
DESCRIPTION:
URL:https://www.bethharan.co.za/event/daniel10/
LOCATION:Pretoria
CATEGORIES:Upcoming Events
ATTACH;FMTTYPE=image/png:https://www.bethharan.co.za/wp-content/uploads/2025/08/Roaring-Prophecies-Advert.png
ORGANIZER;CN="Beth-Haran Ministries":MAILTO:houseofgrace@bethharan.co.za
END:VEVENT
BEGIN:VEVENT
DTSTART;TZID=Africa/Johannesburg:20251112T190000
DTEND;TZID=Africa/Johannesburg:20251112T210000
DTSTAMP:20260419T221837
CREATED:20250823T080716Z
LAST-MODIFIED:20250823T080716Z
UID:7669-1762974000-1762981200@www.bethharan.co.za
SUMMARY:Roaring Prophecies - A Study on Daniel (Week Nine)
DESCRIPTION:
URL:https://www.bethharan.co.za/event/daniel9/
LOCATION:Pretoria
CATEGORIES:Upcoming Events
ATTACH;FMTTYPE=image/png:https://www.bethharan.co.za/wp-content/uploads/2025/08/Roaring-Prophecies-Advert.png
ORGANIZER;CN="Beth-Haran Ministries":MAILTO:houseofgrace@bethharan.co.za
END:VEVENT
BEGIN:VEVENT
DTSTART;TZID=Africa/Johannesburg:20251105T190000
DTEND;TZID=Africa/Johannesburg:20251105T210000
DTSTAMP:20260419T221837
CREATED:20250823T080522Z
LAST-MODIFIED:20251103T065613Z
UID:7664-1762369200-1762376400@www.bethharan.co.za
SUMMARY:Roaring Prophecies - A Study on Daniel (Week Eight)
DESCRIPTION:
URL:https://www.bethharan.co.za/event/daniel8/
LOCATION:Pretoria
CATEGORIES:Upcoming Events
ATTACH;FMTTYPE=image/png:https://www.bethharan.co.za/wp-content/uploads/2025/08/Roaring-Prophecies-Advert.png
ORGANIZER;CN="Beth-Haran Ministries":MAILTO:houseofgrace@bethharan.co.za
END:VEVENT
BEGIN:VEVENT
DTSTART;TZID=Africa/Johannesburg:20251029T190000
DTEND;TZID=Africa/Johannesburg:20251029T210000
DTSTAMP:20260419T221837
CREATED:20250823T075749Z
LAST-MODIFIED:20250823T075749Z
UID:7654-1761764400-1761771600@www.bethharan.co.za
SUMMARY:Roaring Prophecies - A Study on Daniel (Week Seven)
DESCRIPTION:
URL:https://www.bethharan.co.za/event/daniel7/
LOCATION:Pretoria
CATEGORIES:Upcoming Events
ATTACH;FMTTYPE=image/png:https://www.bethharan.co.za/wp-content/uploads/2025/08/Roaring-Prophecies-Advert.png
ORGANIZER;CN="Beth-Haran Ministries":MAILTO:houseofgrace@bethharan.co.za
END:VEVENT
BEGIN:VEVENT
DTSTART;TZID=Africa/Johannesburg:20251022T190000
DTEND;TZID=Africa/Johannesburg:20251022T210000
DTSTAMP:20260419T221837
CREATED:20250823T075617Z
LAST-MODIFIED:20250823T075617Z
UID:7646-1761159600-1761166800@www.bethharan.co.za
SUMMARY:Roaring Prophecies - A Study on Daniel (Week Six)
DESCRIPTION:
URL:https://www.bethharan.co.za/event/daniel6/
LOCATION:Pretoria
CATEGORIES:Upcoming Events
ATTACH;FMTTYPE=image/png:https://www.bethharan.co.za/wp-content/uploads/2025/08/Roaring-Prophecies-Advert.png
ORGANIZER;CN="Beth-Haran Ministries":MAILTO:houseofgrace@bethharan.co.za
END:VEVENT
BEGIN:VEVENT
DTSTART;TZID=Africa/Johannesburg:20251015T190000
DTEND;TZID=Africa/Johannesburg:20251015T210000
DTSTAMP:20260419T221837
CREATED:20250823T075434Z
LAST-MODIFIED:20260209T183618Z
UID:7639-1760554800-1760562000@www.bethharan.co.za
SUMMARY:Roaring Prophecies - A Study on Daniel (Week Five)
DESCRIPTION:
URL:https://www.bethharan.co.za/event/daniel5/
LOCATION:Pretoria
CATEGORIES:Upcoming Events
ATTACH;FMTTYPE=image/png:https://www.bethharan.co.za/wp-content/uploads/2025/08/Roaring-Prophecies-Advert.png
ORGANIZER;CN="Beth-Haran Ministries":MAILTO:houseofgrace@bethharan.co.za
END:VEVENT
BEGIN:VEVENT
DTSTART;TZID=Africa/Johannesburg:20251008T190000
DTEND;TZID=Africa/Johannesburg:20251008T210000
DTSTAMP:20260419T221837
CREATED:20250823T075245Z
LAST-MODIFIED:20260209T183609Z
UID:7632-1759950000-1759957200@www.bethharan.co.za
SUMMARY:Roaring Prophecies - A Study on Daniel (Week Four)
DESCRIPTION:
URL:https://www.bethharan.co.za/event/daniel4/
LOCATION:Pretoria
CATEGORIES:Upcoming Events
ATTACH;FMTTYPE=image/png:https://www.bethharan.co.za/wp-content/uploads/2025/08/Roaring-Prophecies-Advert.png
ORGANIZER;CN="Beth-Haran Ministries":MAILTO:houseofgrace@bethharan.co.za
END:VEVENT
BEGIN:VEVENT
DTSTART;TZID=Africa/Johannesburg:20250928T100000
DTEND;TZID=Africa/Johannesburg:20250928T120000
DTSTAMP:20260419T221837
CREATED:20250813T140947Z
LAST-MODIFIED:20250813T141211Z
UID:6916-1759053600-1759060800@www.bethharan.co.za
SUMMARY:Guest Pastor: Audra Niemand Sep '25
DESCRIPTION:
URL:https://www.bethharan.co.za/event/guest-pastor-audra-niemand-sep-25/
LOCATION:Beth-Haran Ministries\, 6 Venda St\, Sebenza\, Edenvale\, Gauteng\, 1609\, South Africa
CATEGORIES:Upcoming Events
ATTACH;FMTTYPE=image/jpeg:https://www.bethharan.co.za/wp-content/uploads/2025/08/Pastor-Audra-28-September-2025.jpg
ORGANIZER;CN="Beth-Haran Ministries":MAILTO:houseofgrace@bethharan.co.za
END:VEVENT
BEGIN:VEVENT
DTSTART;TZID=Africa/Johannesburg:20250917T190000
DTEND;TZID=Africa/Johannesburg:20250917T210000
DTSTAMP:20260419T221837
CREATED:20250823T075044Z
LAST-MODIFIED:20250823T075044Z
UID:7616-1758135600-1758142800@www.bethharan.co.za
SUMMARY:Roaring Prophecies - A Study on Daniel (Week Three)
DESCRIPTION:
URL:https://www.bethharan.co.za/event/daniel3/
LOCATION:Pretoria
CATEGORIES:Upcoming Events
ATTACH;FMTTYPE=image/png:https://www.bethharan.co.za/wp-content/uploads/2025/08/Roaring-Prophecies-Advert.png
ORGANIZER;CN="Beth-Haran Ministries":MAILTO:houseofgrace@bethharan.co.za
END:VEVENT
BEGIN:VEVENT
DTSTART;TZID=Africa/Johannesburg:20250912T080000
DTEND;TZID=Africa/Johannesburg:20250912T170000
DTSTAMP:20260419T221837
CREATED:20250221T162853Z
LAST-MODIFIED:20250221T162853Z
UID:2070-1757664000-1757696400@www.bethharan.co.za
SUMMARY:Youth - 12 September 2025
DESCRIPTION:
URL:https://www.bethharan.co.za/event/youth-12-september-2025/
LOCATION:Pretoria
CATEGORIES:Upcoming Events
ATTACH;FMTTYPE=image/jpeg:https://www.bethharan.co.za/wp-content/uploads/2025/02/Youth-2.jpg
ORGANIZER;CN="Beth-Haran Ministries":MAILTO:houseofgrace@bethharan.co.za
END:VEVENT
BEGIN:VEVENT
DTSTART;TZID=Africa/Johannesburg:20250910T190000
DTEND;TZID=Africa/Johannesburg:20250910T210000
DTSTAMP:20260419T221837
CREATED:20250823T074852Z
LAST-MODIFIED:20250823T074852Z
UID:7606-1757530800-1757538000@www.bethharan.co.za
SUMMARY:Roaring Prophecies - A Study on Daniel (Week Two)
DESCRIPTION:
URL:https://www.bethharan.co.za/event/daniel2/
LOCATION:Pretoria
CATEGORIES:Upcoming Events
ATTACH;FMTTYPE=image/png:https://www.bethharan.co.za/wp-content/uploads/2025/08/Roaring-Prophecies-Advert.png
ORGANIZER;CN="Beth-Haran Ministries":MAILTO:houseofgrace@bethharan.co.za
END:VEVENT
BEGIN:VEVENT
DTSTART;TZID=Africa/Johannesburg:20250903T190000
DTEND;TZID=Africa/Johannesburg:20250903T210000
DTSTAMP:20260419T221837
CREATED:20250823T070724Z
LAST-MODIFIED:20250823T074433Z
UID:7416-1756926000-1756933200@www.bethharan.co.za
SUMMARY:Roaring Prophecies - A Study on Daniel (Week One)
DESCRIPTION:
URL:https://www.bethharan.co.za/event/daniel1/
LOCATION:Pretoria
CATEGORIES:Upcoming Events
ATTACH;FMTTYPE=image/png:https://www.bethharan.co.za/wp-content/uploads/2025/08/Roaring-Prophecies-Advert.png
ORGANIZER;CN="Beth-Haran Ministries":MAILTO:houseofgrace@bethharan.co.za
END:VEVENT
BEGIN:VEVENT
DTSTART;TZID=Africa/Johannesburg:20250831T100000
DTEND;TZID=Africa/Johannesburg:20250831T130000
DTSTAMP:20260419T221837
CREATED:20250724T111133Z
LAST-MODIFIED:20250724T111133Z
UID:6347-1756634400-1756645200@www.bethharan.co.za
SUMMARY:Monthly Fellowship: 31 August 2025
DESCRIPTION:
URL:https://www.bethharan.co.za/event/monthly-fellowship-31-august-2025/
LOCATION:Beth-Haran Ministries\, 6 Venda St\, Sebenza\, Edenvale\, Gauteng\, 1609\, South Africa
CATEGORIES:Upcoming Events
ATTACH;FMTTYPE=image/jpeg:https://www.bethharan.co.za/wp-content/uploads/2025/02/Monthly-Fellowship.jpg
ORGANIZER;CN="Beth-Haran Ministries":MAILTO:houseofgrace@bethharan.co.za
END:VEVENT
BEGIN:VEVENT
DTSTART;TZID=Africa/Johannesburg:20250831T100000
DTEND;TZID=Africa/Johannesburg:20250831T123000
DTSTAMP:20260419T221837
CREATED:20250727T051805Z
LAST-MODIFIED:20250729T084848Z
UID:6478-1756634400-1756643400@www.bethharan.co.za
SUMMARY:Koeksister Project
DESCRIPTION:Price: R45 per dozen / R40 per dozen for 10 or more \nOrders Deadline: 16th August 2025 \nPayment Deadline: 25th August 2025 \nDelivery of orders: Sunday 31st August 2025 @ Church Service \nOrders to be placed with André (078 458 4411) OR Wian (083 642 1534)
URL:https://www.bethharan.co.za/event/koeksister-project/
LOCATION:Beth-Haran Ministries\, 6 Venda St\, Sebenza\, Edenvale\, Gauteng\, 1609\, South Africa
CATEGORIES:Upcoming Events
ATTACH;FMTTYPE=image/jpeg:https://www.bethharan.co.za/wp-content/uploads/2025/07/Koeksisters-August-2025.jpeg
ORGANIZER;CN="Beth-Haran Ministries":MAILTO:houseofgrace@bethharan.co.za
END:VEVENT
BEGIN:VEVENT
DTSTART;VALUE=DATE:20250820
DTEND;VALUE=DATE:20250919
DTSTAMP:20260419T221837
CREATED:20250821T070628Z
LAST-MODIFIED:20250821T070628Z
UID:7346-1755648000-1758239999@www.bethharan.co.za
SUMMARY:30 Days of Prayer and Fasting
DESCRIPTION:
URL:https://www.bethharan.co.za/event/30-days-of-prayer-and-fasting/
LOCATION:Beth-Haran Ministries\, 6 Venda St\, Sebenza\, Edenvale\, Gauteng\, 1609\, South Africa
CATEGORIES:Upcoming Events
ATTACH;FMTTYPE=image/jpeg:https://www.bethharan.co.za/wp-content/uploads/2025/08/30-Days-of-Prayer-and-Fasting.jpg
ORGANIZER;CN="Beth-Haran Ministries":MAILTO:houseofgrace@bethharan.co.za
END:VEVENT
BEGIN:VEVENT
DTSTART;TZID=Africa/Johannesburg:20250815T183000
DTEND;TZID=Africa/Johannesburg:20250815T210000
DTSTAMP:20260419T221837
CREATED:20250221T162607Z
LAST-MODIFIED:20250221T162626Z
UID:2065-1755282600-1755291600@www.bethharan.co.za
SUMMARY:Soaking Session: 15 August 2025
DESCRIPTION:
URL:https://www.bethharan.co.za/event/soaking-session-15-august-2025/
LOCATION:Pretoria
CATEGORIES:Upcoming Events
ATTACH;FMTTYPE=image/jpeg:https://www.bethharan.co.za/wp-content/uploads/2025/02/Soaking-1.jpg
ORGANIZER;CN="Beth-Haran Ministries":MAILTO:houseofgrace@bethharan.co.za
END:VEVENT
BEGIN:VEVENT
DTSTART;TZID=Africa/Johannesburg:20250806T190000
DTEND;TZID=Africa/Johannesburg:20250806T210000
DTSTAMP:20260419T221837
CREATED:20250612T114524Z
LAST-MODIFIED:20250727T051200Z
UID:5038-1754506800-1754514000@www.bethharan.co.za
SUMMARY:70×7: Session 8: Steps to Follow to Forgive Yourself
DESCRIPTION:Are you drinking poison\, and hoping that it hurts someone else?\n\n\n\n\nThis course is for you! Take this course to find out how to find peace by forgiving others and yourself!
URL:https://www.bethharan.co.za/event/70x7-session-8-steps-to-follow-to-forgive-yourself/
LOCATION:Pretoria
CATEGORIES:Upcoming Events
ATTACH;FMTTYPE=image/jpeg:https://www.bethharan.co.za/wp-content/uploads/2025/05/70x7.jpg
ORGANIZER;CN="Beth-Haran Ministries":MAILTO:houseofgrace@bethharan.co.za
END:VEVENT
BEGIN:VEVENT
DTSTART;TZID=Africa/Johannesburg:20250803T100000
DTEND;TZID=Africa/Johannesburg:20250803T120000
DTSTAMP:20260419T221837
CREATED:20250730T183658Z
LAST-MODIFIED:20250730T183658Z
UID:6643-1754215200-1754222400@www.bethharan.co.za
SUMMARY:Guest Pastor: Audra Niemand
DESCRIPTION:
URL:https://www.bethharan.co.za/event/guest-pastor-audra-niemand/
LOCATION:Beth-Haran Ministries\, 6 Venda St\, Sebenza\, Edenvale\, Gauteng\, 1609\, South Africa
CATEGORIES:Upcoming Events
ATTACH;FMTTYPE=image/jpeg:https://www.bethharan.co.za/wp-content/uploads/2025/07/Pastor-Audra-03-August-2025.jpg
ORGANIZER;CN="Beth-Haran Ministries":MAILTO:houseofgrace@bethharan.co.za
END:VEVENT
BEGIN:VEVENT
DTSTART;TZID=Africa/Johannesburg:20250801T183000
DTEND;TZID=Africa/Johannesburg:20250801T210000
DTSTAMP:20260419T221837
CREATED:20250221T162808Z
LAST-MODIFIED:20250221T162808Z
UID:2067-1754073000-1754082000@www.bethharan.co.za
SUMMARY:Youth - 01 August 2025
DESCRIPTION:
URL:https://www.bethharan.co.za/event/youth-01-august-2025/
LOCATION:Pretoria
CATEGORIES:Upcoming Events
ATTACH;FMTTYPE=image/jpeg:https://www.bethharan.co.za/wp-content/uploads/2025/02/Youth-2.jpg
ORGANIZER;CN="Beth-Haran Ministries":MAILTO:houseofgrace@bethharan.co.za
END:VEVENT
BEGIN:VEVENT
DTSTART;TZID=Africa/Johannesburg:20250730T190000
DTEND;TZID=Africa/Johannesburg:20250730T210000
DTSTAMP:20260419T221837
CREATED:20250612T114409Z
LAST-MODIFIED:20250727T051154Z
UID:5028-1753902000-1753909200@www.bethharan.co.za
SUMMARY:70×7: Session 7: What Happens When You Don’t Forgive Yourself
DESCRIPTION:Are you drinking poison\, and hoping that it hurts someone else?\n\n\n\n\nThis course is for you! Take this course to find out how to find peace by forgiving others and yourself!
URL:https://www.bethharan.co.za/event/70x7-session-7-what-happens-when-you-dont-forgive-yourself/
LOCATION:Pretoria
CATEGORIES:Upcoming Events
ATTACH;FMTTYPE=image/jpeg:https://www.bethharan.co.za/wp-content/uploads/2025/05/70x7.jpg
ORGANIZER;CN="Beth-Haran Ministries":MAILTO:houseofgrace@bethharan.co.za
END:VEVENT
BEGIN:VEVENT
DTSTART;TZID=Africa/Johannesburg:20250727T100000
DTEND;TZID=Africa/Johannesburg:20250727T130000
DTSTAMP:20260419T221837
CREATED:20250724T110708Z
LAST-MODIFIED:20250724T110708Z
UID:6340-1753610400-1753621200@www.bethharan.co.za
SUMMARY:Monthly Fellowship: 27 July 2025
DESCRIPTION:
URL:https://www.bethharan.co.za/event/monthly-fellowship-27-july-2025/
LOCATION:Beth-Haran Ministries\, 6 Venda St\, Sebenza\, Edenvale\, Gauteng\, 1609\, South Africa
CATEGORIES:Upcoming Events
ATTACH;FMTTYPE=image/jpeg:https://www.bethharan.co.za/wp-content/uploads/2025/02/Monthly-Fellowship.jpg
ORGANIZER;CN="Beth-Haran Ministries":MAILTO:houseofgrace@bethharan.co.za
END:VEVENT
BEGIN:VEVENT
DTSTART;TZID=Africa/Johannesburg:20250727T090000
DTEND;TZID=Africa/Johannesburg:20250727T120000
DTSTAMP:20260419T221837
CREATED:20250528T163152Z
LAST-MODIFIED:20250528T163152Z
UID:4515-1753606800-1753617600@www.bethharan.co.za
SUMMARY:Discipleship Course: Houtkruis Kerk 27 July
DESCRIPTION:
URL:https://www.bethharan.co.za/event/discipleship-course-houtkruis-kerk-27-july/
LOCATION:Houtkruis Kerk\, 26 Letaba St\, Three Rivers\, Vereeniging\, Gauteng\, 1935\, South Africa
CATEGORIES:Upcoming Events
ATTACH;FMTTYPE=image/jpeg:https://www.bethharan.co.za/wp-content/uploads/2025/05/Houtkruis-Discipleship-July-2025.jpeg
ORGANIZER;CN="Beth-Haran Ministries":MAILTO:houseofgrace@bethharan.co.za
END:VEVENT
BEGIN:VEVENT
DTSTART;TZID=Africa/Johannesburg:20250726T083000
DTEND;TZID=Africa/Johannesburg:20250726T160000
DTSTAMP:20260419T221837
CREATED:20250528T163036Z
LAST-MODIFIED:20250528T163118Z
UID:4513-1753518600-1753545600@www.bethharan.co.za
SUMMARY:Discipleship Course: Houtkruis Kerk 26 July
DESCRIPTION:
URL:https://www.bethharan.co.za/event/discipleship-course-houtkruis-kerk-26-july/
LOCATION:Houtkruis Kerk\, 26 Letaba St\, Three Rivers\, Vereeniging\, Gauteng\, 1935\, South Africa
CATEGORIES:Upcoming Events
ATTACH;FMTTYPE=image/jpeg:https://www.bethharan.co.za/wp-content/uploads/2025/05/Houtkruis-Discipleship-July-2025.jpeg
ORGANIZER;CN="Beth-Haran Ministries":MAILTO:houseofgrace@bethharan.co.za
END:VEVENT
BEGIN:VEVENT
DTSTART;TZID=Africa/Johannesburg:20250719T083000
DTEND;TZID=Africa/Johannesburg:20250719T160000
DTSTAMP:20260419T221837
CREATED:20250528T162922Z
LAST-MODIFIED:20250528T162922Z
UID:4509-1752913800-1752940800@www.bethharan.co.za
SUMMARY:Discipleship Course: Houtkruis Kerk 19 July
DESCRIPTION:
URL:https://www.bethharan.co.za/event/discipleship-course-houtkruis-kerk-19-july/
LOCATION:Houtkruis Kerk\, 26 Letaba St\, Three Rivers\, Vereeniging\, Gauteng\, 1935\, South Africa
CATEGORIES:Upcoming Events
ATTACH;FMTTYPE=image/jpeg:https://www.bethharan.co.za/wp-content/uploads/2025/05/Houtkruis-Discipleship-July-2025.jpeg
ORGANIZER;CN="Beth-Haran Ministries":MAILTO:houseofgrace@bethharan.co.za
END:VEVENT
BEGIN:VEVENT
DTSTART;TZID=Africa/Johannesburg:20250706T120000
DTEND;TZID=Africa/Johannesburg:20250706T130000
DTSTAMP:20260419T221837
CREATED:20250609T155632Z
LAST-MODIFIED:20250609T155632Z
UID:4871-1751803200-1751806800@www.bethharan.co.za
SUMMARY:Curry & Rice Fundraiser
DESCRIPTION:
URL:https://www.bethharan.co.za/event/curry-rice-fundraiser/
LOCATION:Beth-Haran Ministries\, 6 Venda St\, Sebenza\, Edenvale\, Gauteng\, 1609\, South Africa
CATEGORIES:Upcoming Events
ATTACH;FMTTYPE=image/jpeg:https://www.bethharan.co.za/wp-content/uploads/2025/06/Fundraiser-6-July-2025.jpeg
ORGANIZER;CN="Beth-Haran Ministries":MAILTO:houseofgrace@bethharan.co.za
END:VEVENT
BEGIN:VEVENT
DTSTART;VALUE=DATE:20250705
DTEND;VALUE=DATE:20250706
DTSTAMP:20260419T221837
CREATED:20250214T142326Z
LAST-MODIFIED:20250214T164712Z
UID:1753-1751673600-1751759999@www.bethharan.co.za
SUMMARY:Winter Drive 2025
DESCRIPTION:
URL:https://www.bethharan.co.za/event/winter-drive-2025/
LOCATION:Pretoria
CATEGORIES:Upcoming Events
ATTACH;FMTTYPE=image/jpeg:https://www.bethharan.co.za/wp-content/uploads/2025/02/Winter-Drive-2025.jpg
ORGANIZER;CN="Beth-Haran Ministries":MAILTO:houseofgrace@bethharan.co.za
END:VEVENT
BEGIN:VEVENT
DTSTART;TZID=Africa/Johannesburg:20250628T090000
DTEND;TZID=Africa/Johannesburg:20250628T130000
DTSTAMP:20260419T221837
CREATED:20250214T165147Z
LAST-MODIFIED:20250609T155406Z
UID:1789-1751101200-1751115600@www.bethharan.co.za
SUMMARY:Youth - 28 June 2025
DESCRIPTION:
URL:https://www.bethharan.co.za/event/youth-27-june-2025/
LOCATION:Pretoria
CATEGORIES:Upcoming Events
ATTACH;FMTTYPE=image/jpeg:https://www.bethharan.co.za/wp-content/uploads/2025/02/Youth-28-June-2025.jpeg
ORGANIZER;CN="Beth-Haran Ministries":MAILTO:houseofgrace@bethharan.co.za
END:VEVENT
END:VCALENDAR