BEGIN:VCALENDAR
VERSION:2.0
PRODID:-//Beth-Haran Ministries - ECPv6.15.20//NONSGML v1.0//EN
CALSCALE:GREGORIAN
METHOD:PUBLISH
X-WR-CALNAME:Beth-Haran Ministries
X-ORIGINAL-URL:https://www.bethharan.co.za
X-WR-CALDESC:Events for Beth-Haran Ministries
REFRESH-INTERVAL;VALUE=DURATION:PT1H
X-Robots-Tag:noindex
X-PUBLISHED-TTL:PT1H
BEGIN:VTIMEZONE
TZID:Africa/Johannesburg
BEGIN:STANDARD
TZOFFSETFROM:+0200
TZOFFSETTO:+0200
TZNAME:SAST
DTSTART:20250101T000000
END:STANDARD
END:VTIMEZONE
BEGIN:VEVENT
DTSTART;TZID=Africa/Johannesburg:20260301T093000
DTEND;TZID=Africa/Johannesburg:20260301T120000
DTSTAMP:20260420T033948
CREATED:20260219T150046Z
LAST-MODIFIED:20260220T070802Z
UID:12497-1772357400-1772366400@www.bethharan.co.za
SUMMARY:Sunday Service - 01 March 2026
DESCRIPTION:Join us this Sunday! Everyone is welcome! \n09:30 – Prayer \n09:30 – Youth \n10:00 – Church Service
URL:https://www.bethharan.co.za/event/sunday-service-01-march-2026/
CATEGORIES:Upcoming Events
ATTACH;FMTTYPE=image/jpeg:https://www.bethharan.co.za/wp-content/uploads/2026/02/Sunday-Service.jpeg
ORGANIZER;CN="Beth-Haran Ministries":MAILTO:houseofgrace@bethharan.co.za
END:VEVENT
BEGIN:VEVENT
DTSTART;TZID=Africa/Johannesburg:20260304T190000
DTEND;TZID=Africa/Johannesburg:20260304T210000
DTSTAMP:20260420T033948
CREATED:20260216T075837Z
LAST-MODIFIED:20260216T075839Z
UID:12466-1772650800-1772658000@www.bethharan.co.za
SUMMARY:A Journey Through the Book of Revelation - Week Five
DESCRIPTION:Please join us as we journey through the Book of Revelation\, exploring its message as a beautiful love letter from Jesus to us\, His bride. \nPlease contact Pastor Louis\, Teacher Calvin or Nicci for more information.
URL:https://www.bethharan.co.za/event/a-journey-through-the-book-of-revelation-week-five/
CATEGORIES:Upcoming Events
ATTACH;FMTTYPE=image/png:https://www.bethharan.co.za/wp-content/uploads/2026/01/Revelation-Advert.png
ORGANIZER;CN="Beth-Haran Ministries":MAILTO:houseofgrace@bethharan.co.za
END:VEVENT
BEGIN:VEVENT
DTSTART;TZID=Africa/Johannesburg:20260308T093000
DTEND;TZID=Africa/Johannesburg:20260308T120000
DTSTAMP:20260420T033948
CREATED:20260220T070934Z
LAST-MODIFIED:20260220T070936Z
UID:12501-1772962200-1772971200@www.bethharan.co.za
SUMMARY:Sunday Service - 08 March 2026
DESCRIPTION:Join us this Sunday! Everyone is welcome! \n09:30 – Prayer \n09:30 – Youth \n10:00 – Church Service
URL:https://www.bethharan.co.za/event/sunday-service-08-march-2026/
CATEGORIES:Upcoming Events
ATTACH;FMTTYPE=image/jpeg:https://www.bethharan.co.za/wp-content/uploads/2026/02/Sunday-Service.jpeg
ORGANIZER;CN="Beth-Haran Ministries":MAILTO:houseofgrace@bethharan.co.za
END:VEVENT
BEGIN:VEVENT
DTSTART;TZID=Africa/Johannesburg:20260311T190000
DTEND;TZID=Africa/Johannesburg:20260311T210000
DTSTAMP:20260420T033948
CREATED:20260216T080734Z
LAST-MODIFIED:20260216T080736Z
UID:12468-1773255600-1773262800@www.bethharan.co.za
SUMMARY:A Journey Through the Book of Revelation - Week Six
DESCRIPTION:Please join us as we journey through the Book of Revelation\, exploring its message as a beautiful love letter from Jesus to us\, His bride. \nPlease contact Pastor Louis\, Teacher Calvin or Nicci for more information.
URL:https://www.bethharan.co.za/event/a-journey-through-the-book-of-revelation-week-six/
CATEGORIES:Upcoming Events
ATTACH;FMTTYPE=image/png:https://www.bethharan.co.za/wp-content/uploads/2026/01/Revelation-Advert.png
ORGANIZER;CN="Beth-Haran Ministries":MAILTO:houseofgrace@bethharan.co.za
END:VEVENT
BEGIN:VEVENT
DTSTART;TZID=Africa/Johannesburg:20260313T183000
DTEND;TZID=Africa/Johannesburg:20260313T210000
DTSTAMP:20260420T033948
CREATED:20260216T083638Z
LAST-MODIFIED:20260219T144531Z
UID:12485-1773426600-1773435600@www.bethharan.co.za
SUMMARY:Youth - 13 March 2026
DESCRIPTION:
URL:https://www.bethharan.co.za/event/youth-13-march-2026/
CATEGORIES:Upcoming Events
ATTACH;FMTTYPE=image/jpeg:https://www.bethharan.co.za/wp-content/uploads/2026/02/Youth-Q1-2026.jpeg
ORGANIZER;CN="Beth-Haran Ministries":MAILTO:houseofgrace@bethharan.co.za
END:VEVENT
BEGIN:VEVENT
DTSTART;TZID=Africa/Johannesburg:20260314T080000
DTEND;TZID=Africa/Johannesburg:20260314T160000
DTSTAMP:20260420T033948
CREATED:20260209T072804Z
LAST-MODIFIED:20260209T072805Z
UID:11388-1773475200-1773504000@www.bethharan.co.za
SUMMARY:Discipleship - Beth-Barah Fellowship 14 Mar 2026
DESCRIPTION:
URL:https://www.bethharan.co.za/event/discipleship-beth-barah-fellowship-14-mar-2026/
LOCATION:Beth-Barah Felloship\, 8 Lukin Road\, Pierre van Ryneveld Park\, Centurion\, Pretoria\, 0045\, South Africa
CATEGORIES:Upcoming Events
ATTACH;FMTTYPE=image/jpeg:https://www.bethharan.co.za/wp-content/uploads/2026/02/Discipleship-Beth-Barah.jpeg
ORGANIZER;CN="Beth-Haran Ministries":MAILTO:houseofgrace@bethharan.co.za
END:VEVENT
BEGIN:VEVENT
DTSTART;TZID=Africa/Johannesburg:20260315T090000
DTEND;TZID=Africa/Johannesburg:20260315T120000
DTSTAMP:20260420T033948
CREATED:20260209T073101Z
LAST-MODIFIED:20260209T073109Z
UID:11406-1773565200-1773576000@www.bethharan.co.za
SUMMARY:Discipleship - Beth-Barah Fellowship 15 Mar 2026
DESCRIPTION:
URL:https://www.bethharan.co.za/event/discipleship-beth-barah-fellowship-15-mar-2026/
LOCATION:Beth-Barah Felloship\, 8 Lukin Road\, Pierre van Ryneveld Park\, Centurion\, Pretoria\, 0045\, South Africa
CATEGORIES:Upcoming Events
ATTACH;FMTTYPE=image/jpeg:https://www.bethharan.co.za/wp-content/uploads/2026/02/Discipleship-Beth-Barah.jpeg
ORGANIZER;CN="Beth-Haran Ministries":MAILTO:houseofgrace@bethharan.co.za
END:VEVENT
BEGIN:VEVENT
DTSTART;TZID=Africa/Johannesburg:20260315T093000
DTEND;TZID=Africa/Johannesburg:20260315T120000
DTSTAMP:20260420T033948
CREATED:20260220T071613Z
LAST-MODIFIED:20260220T071616Z
UID:12503-1773567000-1773576000@www.bethharan.co.za
SUMMARY:Sunday Service - 15 March 2026
DESCRIPTION:Join us this Sunday! Everyone is welcome! \n09:30 – Prayer \n09:30 – Youth \n10:00 – Church Service
URL:https://www.bethharan.co.za/event/sunday-service-15-march-2026/
CATEGORIES:Upcoming Events
ATTACH;FMTTYPE=image/jpeg:https://www.bethharan.co.za/wp-content/uploads/2026/02/Sunday-Service.jpeg
ORGANIZER;CN="Beth-Haran Ministries":MAILTO:houseofgrace@bethharan.co.za
END:VEVENT
BEGIN:VEVENT
DTSTART;TZID=Africa/Johannesburg:20260318T190000
DTEND;TZID=Africa/Johannesburg:20260318T210000
DTSTAMP:20260420T033948
CREATED:20260216T081010Z
LAST-MODIFIED:20260216T081013Z
UID:12469-1773860400-1773867600@www.bethharan.co.za
SUMMARY:A Journey Through the Book of Revelation - Week Seven
DESCRIPTION:Please join us as we journey through the Book of Revelation\, exploring its message as a beautiful love letter from Jesus to us\, His bride. \nPlease contact Pastor Louis\, Teacher Calvin or Nicci for more information.
URL:https://www.bethharan.co.za/event/a-journey-through-the-book-of-revelation-week-seven/
CATEGORIES:Upcoming Events
ATTACH;FMTTYPE=image/png:https://www.bethharan.co.za/wp-content/uploads/2026/01/Revelation-Advert.png
ORGANIZER;CN="Beth-Haran Ministries":MAILTO:houseofgrace@bethharan.co.za
END:VEVENT
BEGIN:VEVENT
DTSTART;TZID=Africa/Johannesburg:20260320T183000
DTEND;TZID=Africa/Johannesburg:20260320T210000
DTSTAMP:20260420T033948
CREATED:20260225T102601Z
LAST-MODIFIED:20260225T102602Z
UID:12769-1774031400-1774040400@www.bethharan.co.za
SUMMARY:Baptism Soaking Fellowship - 20 March 2026
DESCRIPTION:“Therefore\, if anyone is in Christ\, he is a new creation…” ✨ \nCome and witness lives being transformed at our Baptism Soaking Fellowship. \n20 March 2026 | 6:00 PM \nDo you want to be baptised? Contact Ps. Chris.
URL:https://www.bethharan.co.za/event/baptism-soaking-fellowship-20-march-2026/
CATEGORIES:Upcoming Events
ATTACH;FMTTYPE=image/jpeg:https://www.bethharan.co.za/wp-content/uploads/2026/02/Baptism-March-20-2026.jpeg
ORGANIZER;CN="Beth-Haran Ministries":MAILTO:houseofgrace@bethharan.co.za
END:VEVENT
BEGIN:VEVENT
DTSTART;TZID=Africa/Johannesburg:20260322T093000
DTEND;TZID=Africa/Johannesburg:20260322T120000
DTSTAMP:20260420T033948
CREATED:20260220T072038Z
LAST-MODIFIED:20260225T103059Z
UID:12505-1774171800-1774180800@www.bethharan.co.za
SUMMARY:New Members Service - 22 March 2026
DESCRIPTION:Prayer – 09:30 \nYouth – 09:30 \nNew Members Service – 22 March 2026 | 10:00 \nStep into community. Step into purpose. Step into family. \nContact Ps. Chris to become a new member.
URL:https://www.bethharan.co.za/event/new-members-service-22-march-2026/
CATEGORIES:Upcoming Events
ATTACH;FMTTYPE=image/jpeg:https://www.bethharan.co.za/wp-content/uploads/2026/02/New-Members-Service.jpeg
ORGANIZER;CN="Beth-Haran Ministries":MAILTO:houseofgrace@bethharan.co.za
END:VEVENT
BEGIN:VEVENT
DTSTART;TZID=Africa/Johannesburg:20260325T190000
DTEND;TZID=Africa/Johannesburg:20260325T210000
DTSTAMP:20260420T033948
CREATED:20260216T081335Z
LAST-MODIFIED:20260216T081336Z
UID:12471-1774465200-1774472400@www.bethharan.co.za
SUMMARY:A Journey Through the Book of Revelation - Week Eight
DESCRIPTION:Please join us as we journey through the Book of Revelation\, exploring its message as a beautiful love letter from Jesus to us\, His bride. \nPlease contact Pastor Louis\, Teacher Calvin or Nicci for more information.
URL:https://www.bethharan.co.za/event/a-journey-through-the-book-of-revelation-week-eight/
CATEGORIES:Upcoming Events
ATTACH;FMTTYPE=image/png:https://www.bethharan.co.za/wp-content/uploads/2026/01/Revelation-Advert.png
ORGANIZER;CN="Beth-Haran Ministries":MAILTO:houseofgrace@bethharan.co.za
END:VEVENT
BEGIN:VEVENT
DTSTART;TZID=Africa/Johannesburg:20260327T183000
DTEND;TZID=Africa/Johannesburg:20260327T210000
DTSTAMP:20260420T033948
CREATED:20260216T083640Z
LAST-MODIFIED:20260219T144716Z
UID:12486-1774636200-1774645200@www.bethharan.co.za
SUMMARY:Youth - 27 March 2026
DESCRIPTION:
URL:https://www.bethharan.co.za/event/youth-27-march-2026/
CATEGORIES:Upcoming Events
ATTACH;FMTTYPE=image/jpeg:https://www.bethharan.co.za/wp-content/uploads/2026/02/Youth-Q1-2026.jpeg
ORGANIZER;CN="Beth-Haran Ministries":MAILTO:houseofgrace@bethharan.co.za
END:VEVENT
BEGIN:VEVENT
DTSTART;TZID=Africa/Johannesburg:20260328T083000
DTEND;TZID=Africa/Johannesburg:20260328T160000
DTSTAMP:20260420T033948
CREATED:20250313T144508Z
LAST-MODIFIED:20260108T073340Z
UID:2175-1774686600-1774713600@www.bethharan.co.za
SUMMARY:Bible School 2026 - Month 3
DESCRIPTION:
URL:https://www.bethharan.co.za/event/bible-school-2026-month-3/
CATEGORIES:Upcoming Events
ATTACH;FMTTYPE=image/png:https://www.bethharan.co.za/wp-content/uploads/2025/03/Beth-Haran-Bible-School.png
ORGANIZER;CN="Beth-Haran Ministries":MAILTO:houseofgrace@bethharan.co.za
END:VEVENT
BEGIN:VEVENT
DTSTART;TZID=Africa/Johannesburg:20260329T093000
DTEND;TZID=Africa/Johannesburg:20260329T120000
DTSTAMP:20260420T033948
CREATED:20260220T072155Z
LAST-MODIFIED:20260220T072158Z
UID:12506-1774776600-1774785600@www.bethharan.co.za
SUMMARY:Sunday Service - 29 March 2026
DESCRIPTION:Join us this Sunday! Everyone is welcome! \n09:30 – Prayer \n09:30 – Youth \n10:00 – Church Service
URL:https://www.bethharan.co.za/event/sunday-service-29-march-2026/
CATEGORIES:Upcoming Events
ATTACH;FMTTYPE=image/jpeg:https://www.bethharan.co.za/wp-content/uploads/2026/02/Sunday-Service.jpeg
ORGANIZER;CN="Beth-Haran Ministries":MAILTO:houseofgrace@bethharan.co.za
END:VEVENT
BEGIN:VEVENT
DTSTART;TZID=Africa/Johannesburg:20260403T090000
DTEND;TZID=Africa/Johannesburg:20260403T110000
DTSTAMP:20260420T033948
CREATED:20260326T102759Z
LAST-MODIFIED:20260326T102759Z
UID:13877-1775206800-1775214000@www.bethharan.co.za
SUMMARY:Good Friday Service 2026
DESCRIPTION:
URL:https://www.bethharan.co.za/event/good-friday-service-2026/
LOCATION:Die Anker Gemeente\, 16 Piet Uys St\, Potchefstroom\, 2520\, South Africa
CATEGORIES:Upcoming Events
ATTACH;FMTTYPE=image/jpeg:https://www.bethharan.co.za/wp-content/uploads/2026/03/Good-Friday-Service-2026.jpeg
END:VEVENT
BEGIN:VEVENT
DTSTART;TZID=Africa/Johannesburg:20260405T100000
DTEND;TZID=Africa/Johannesburg:20260405T120000
DTSTAMP:20260420T033948
CREATED:20260209T075026Z
LAST-MODIFIED:20260209T075155Z
UID:11415-1775383200-1775390400@www.bethharan.co.za
SUMMARY:Easter Sit-Down Service
DESCRIPTION:
URL:https://www.bethharan.co.za/event/easter-sit-down-service/
CATEGORIES:Upcoming Events
ORGANIZER;CN="Beth-Haran Ministries":MAILTO:houseofgrace@bethharan.co.za
END:VEVENT
BEGIN:VEVENT
DTSTART;TZID=Africa/Johannesburg:20260410T183000
DTEND;TZID=Africa/Johannesburg:20260410T210000
DTSTAMP:20260420T033948
CREATED:20260324T110513Z
LAST-MODIFIED:20260324T110516Z
UID:13425-1775845800-1775854800@www.bethharan.co.za
SUMMARY:Youth - 10 April 2026
DESCRIPTION:
URL:https://www.bethharan.co.za/event/youth-10-april-2026/
CATEGORIES:Upcoming Events
ATTACH;FMTTYPE=image/jpeg:https://www.bethharan.co.za/wp-content/uploads/2026/03/Youth-Q2-2026.jpg
ORGANIZER;CN="Beth-Haran Ministries":MAILTO:houseofgrace@bethharan.co.za
END:VEVENT
BEGIN:VEVENT
DTSTART;TZID=Africa/Johannesburg:20260411T080000
DTEND;TZID=Africa/Johannesburg:20260411T170000
DTSTAMP:20260420T033948
CREATED:20260209T080039Z
LAST-MODIFIED:20260209T080200Z
UID:11417-1775894400-1775926800@www.bethharan.co.za
SUMMARY:Coffee Station - 11 Apr 2026
DESCRIPTION:
URL:https://www.bethharan.co.za/event/coffee-station/
CATEGORIES:Upcoming Events
ORGANIZER;CN="Beth-Haran Ministries":MAILTO:houseofgrace@bethharan.co.za
END:VEVENT
BEGIN:VEVENT
DTSTART;TZID=Africa/Johannesburg:20260415T190000
DTEND;TZID=Africa/Johannesburg:20260415T210000
DTSTAMP:20260420T033948
CREATED:20260216T081803Z
LAST-MODIFIED:20260415T082217Z
UID:12474-1776279600-1776286800@www.bethharan.co.za
SUMMARY:A Journey Through the Book of Revelation - Week Nine
DESCRIPTION:Please join us as we journey through the Book of Revelation\, exploring its message as a beautiful love letter from Jesus to us\, His bride. \nPlease contact Pastor Louis\, Teacher Calvin or Nicci for more information.
URL:https://www.bethharan.co.za/event/a-journey-through-the-book-of-revelation-week-nine/
CATEGORIES:Upcoming Events
ATTACH;FMTTYPE=image/png:https://www.bethharan.co.za/wp-content/uploads/2026/01/Revelation-Advert.png
ORGANIZER;CN="Beth-Haran Ministries":MAILTO:houseofgrace@bethharan.co.za
END:VEVENT
BEGIN:VEVENT
DTSTART;TZID=Africa/Johannesburg:20260419T093000
DTEND;TZID=Africa/Johannesburg:20260419T120000
DTSTAMP:20260420T033948
CREATED:20260322T073249Z
LAST-MODIFIED:20260322T073251Z
UID:13317-1776591000-1776600000@www.bethharan.co.za
SUMMARY:Special Service - 19 April 2026
DESCRIPTION:Join us this Sunday! Everyone is welcome! \n09:30 – Prayer \n09:30 – Youth \n10:00 – Church Service
URL:https://www.bethharan.co.za/event/special-service-19-april-2026/
CATEGORIES:Upcoming Events
ATTACH;FMTTYPE=image/jpeg:https://www.bethharan.co.za/wp-content/uploads/2026/03/Apostle-Prophet-Visit-April-2026.jpeg
END:VEVENT
BEGIN:VEVENT
DTSTART;TZID=Africa/Johannesburg:20260422T190000
DTEND;TZID=Africa/Johannesburg:20260422T210000
DTSTAMP:20260420T033948
CREATED:20260216T082014Z
LAST-MODIFIED:20260415T081526Z
UID:12476-1776884400-1776891600@www.bethharan.co.za
SUMMARY:A Journey Through the Book of Revelation - Week Ten
DESCRIPTION:Please join us as we journey through the Book of Revelation\, exploring its message as a beautiful love letter from Jesus to us\, His bride. \nPlease contact Pastor Louis\, Teacher Calvin or Nicci for more information.
URL:https://www.bethharan.co.za/event/a-journey-through-the-book-of-revelation-week-ten/
CATEGORIES:Upcoming Events
ATTACH;FMTTYPE=image/png:https://www.bethharan.co.za/wp-content/uploads/2026/01/Revelation-Advert.png
ORGANIZER;CN="Beth-Haran Ministries":MAILTO:houseofgrace@bethharan.co.za
END:VEVENT
BEGIN:VEVENT
DTSTART;TZID=Africa/Johannesburg:20260425T083000
DTEND;TZID=Africa/Johannesburg:20260425T160000
DTSTAMP:20260420T033948
CREATED:20250314T134022Z
LAST-MODIFIED:20260108T070332Z
UID:2426-1777105800-1777132800@www.bethharan.co.za
SUMMARY:Bible School 2026 - Month 4
DESCRIPTION:
URL:https://www.bethharan.co.za/event/bible-school-2026-month-4/
CATEGORIES:Upcoming Events
ATTACH;FMTTYPE=image/png:https://www.bethharan.co.za/wp-content/uploads/2025/03/Beth-Haran-Bible-School.png
ORGANIZER;CN="Beth-Haran Ministries":MAILTO:houseofgrace@bethharan.co.za
END:VEVENT
BEGIN:VEVENT
DTSTART;TZID=Africa/Johannesburg:20260429T190000
DTEND;TZID=Africa/Johannesburg:20260429T210000
DTSTAMP:20260420T033948
CREATED:20260216T082245Z
LAST-MODIFIED:20260415T081650Z
UID:12478-1777489200-1777496400@www.bethharan.co.za
SUMMARY:A Journey Through the Book of Revelation - Week Eleven
DESCRIPTION:Please join us as we journey through the Book of Revelation\, exploring its message as a beautiful love letter from Jesus to us\, His bride. \nPlease contact Pastor Louis\, Teacher Calvin or Nicci for more information.
URL:https://www.bethharan.co.za/event/a-journey-through-the-book-of-revelation-week-eleven/
CATEGORIES:Upcoming Events
ATTACH;FMTTYPE=image/png:https://www.bethharan.co.za/wp-content/uploads/2026/01/Revelation-Advert.png
ORGANIZER;CN="Beth-Haran Ministries":MAILTO:houseofgrace@bethharan.co.za
END:VEVENT
BEGIN:VEVENT
DTSTART;TZID=Africa/Johannesburg:20260506T190000
DTEND;TZID=Africa/Johannesburg:20260506T210000
DTSTAMP:20260420T033948
CREATED:20260216T082516Z
LAST-MODIFIED:20260415T081850Z
UID:12479-1778094000-1778101200@www.bethharan.co.za
SUMMARY:A Journey Through the Book of Revelation - Week Twelve
DESCRIPTION:Please join us as we close off our amazing journey through the Book of Revelation. \nWhat a beautiful letter it is! \nPlease contact Pastor Louis\, Teacher Calvin or Nicci for more information.
URL:https://www.bethharan.co.za/event/a-journey-through-the-book-of-revelation-week-twelve/
CATEGORIES:Upcoming Events
ATTACH;FMTTYPE=image/png:https://www.bethharan.co.za/wp-content/uploads/2026/01/Revelation-Advert.png
ORGANIZER;CN="Beth-Haran Ministries":MAILTO:houseofgrace@bethharan.co.za
END:VEVENT
BEGIN:VEVENT
DTSTART;TZID=Africa/Johannesburg:20260522T183000
DTEND;TZID=Africa/Johannesburg:20260522T210000
DTSTAMP:20260420T033948
CREATED:20251211T090414Z
LAST-MODIFIED:20251211T141818Z
UID:10223-1779474600-1779483600@www.bethharan.co.za
SUMMARY:Soaking Session - 22 May 2026
DESCRIPTION:
URL:https://www.bethharan.co.za/event/soaking-session-22-may-2026/
LOCATION:Johannesburg\, Johannesburg\, South Africa
CATEGORIES:Upcoming Events
ORGANIZER;CN="Beth-Haran Ministries":MAILTO:houseofgrace@bethharan.co.za
END:VEVENT
BEGIN:VEVENT
DTSTART;TZID=Africa/Johannesburg:20260523T080000
DTEND;TZID=Africa/Johannesburg:20260523T160000
DTSTAMP:20260420T033948
CREATED:20260209T080909Z
LAST-MODIFIED:20260209T080909Z
UID:11422-1779523200-1779552000@www.bethharan.co.za
SUMMARY:Discipleship - Merge Kingdom 23 May 2026
DESCRIPTION:
URL:https://www.bethharan.co.za/event/discipleship-merge-kingdom-23-may-2026/
CATEGORIES:Upcoming Events
ORGANIZER;CN="Beth-Haran Ministries":MAILTO:houseofgrace@bethharan.co.za
END:VEVENT
BEGIN:VEVENT
DTSTART;TZID=Africa/Johannesburg:20260530T080000
DTEND;TZID=Africa/Johannesburg:20260530T160000
DTSTAMP:20260420T033948
CREATED:20260209T081043Z
LAST-MODIFIED:20260209T081044Z
UID:11424-1780128000-1780156800@www.bethharan.co.za
SUMMARY:Discipleship - Merge Kingdom 30 May 2026
DESCRIPTION:
URL:https://www.bethharan.co.za/event/discipleship-merge-kingdom-30-may-2026/
CATEGORIES:Upcoming Events
ORGANIZER;CN="Beth-Haran Ministries":MAILTO:houseofgrace@bethharan.co.za
END:VEVENT
BEGIN:VEVENT
DTSTART;TZID=Africa/Johannesburg:20260530T083000
DTEND;TZID=Africa/Johannesburg:20260530T160000
DTSTAMP:20260420T033948
CREATED:20250314T134128Z
LAST-MODIFIED:20260108T073228Z
UID:2428-1780129800-1780156800@www.bethharan.co.za
SUMMARY:Bible School 2026 - Month 5
DESCRIPTION:
URL:https://www.bethharan.co.za/event/bible-school-2026-month-5/
CATEGORIES:Upcoming Events
ATTACH;FMTTYPE=image/png:https://www.bethharan.co.za/wp-content/uploads/2025/03/Beth-Haran-Bible-School.png
ORGANIZER;CN="Beth-Haran Ministries":MAILTO:houseofgrace@bethharan.co.za
END:VEVENT
BEGIN:VEVENT
DTSTART;TZID=Africa/Johannesburg:20260531T090000
DTEND;TZID=Africa/Johannesburg:20260531T120000
DTSTAMP:20260420T033948
CREATED:20260209T081241Z
LAST-MODIFIED:20260209T082418Z
UID:11426-1780218000-1780228800@www.bethharan.co.za
SUMMARY:Discipleship - Merge Kingdom 31 May 2026
DESCRIPTION:
URL:https://www.bethharan.co.za/event/discipleship-merge-kingdom-31-may-2026/
CATEGORIES:Upcoming Events
ORGANIZER;CN="Beth-Haran Ministries":MAILTO:houseofgrace@bethharan.co.za
END:VEVENT
END:VCALENDAR