BEGIN:VCALENDAR
VERSION:2.0
PRODID:-//Beth-Haran Ministries - ECPv6.15.20//NONSGML v1.0//EN
CALSCALE:GREGORIAN
METHOD:PUBLISH
X-WR-CALNAME:Beth-Haran Ministries
X-ORIGINAL-URL:https://www.bethharan.co.za
X-WR-CALDESC:Events for Beth-Haran Ministries
REFRESH-INTERVAL;VALUE=DURATION:PT1H
X-Robots-Tag:noindex
X-PUBLISHED-TTL:PT1H
BEGIN:VTIMEZONE
TZID:Africa/Johannesburg
BEGIN:STANDARD
TZOFFSETFROM:+0200
TZOFFSETTO:+0200
TZNAME:SAST
DTSTART:20250101T000000
END:STANDARD
END:VTIMEZONE
BEGIN:VEVENT
DTSTART;TZID=Africa/Johannesburg:20260211T190000
DTEND;TZID=Africa/Johannesburg:20260211T210000
DTSTAMP:20260419T191424
CREATED:20260210T065803Z
LAST-MODIFIED:20260210T065806Z
UID:11701-1770836400-1770843600@www.bethharan.co.za
SUMMARY:A Journey Through the Book of Revelation - Week Two
DESCRIPTION:Please join us as we journey through the Book of Revelation\, exploring its message as a beautiful love letter from Jesus to us\, His bride. \nPlease contact Pastor Louis\, Teacher Calvin or Nicci for more information.
URL:https://www.bethharan.co.za/event/a-journey-through-the-book-of-revelation-week-two/
CATEGORIES:Upcoming Events
ATTACH;FMTTYPE=image/png:https://www.bethharan.co.za/wp-content/uploads/2026/01/Revelation-Advert.png
ORGANIZER;CN="Beth-Haran Ministries":MAILTO:houseofgrace@bethharan.co.za
END:VEVENT
END:VCALENDAR