BEGIN:VCALENDAR
VERSION:2.0
PRODID:-//Beth-Haran Ministries - ECPv6.15.20//NONSGML v1.0//EN
CALSCALE:GREGORIAN
METHOD:PUBLISH
X-WR-CALNAME:Beth-Haran Ministries
X-ORIGINAL-URL:https://www.bethharan.co.za
X-WR-CALDESC:Events for Beth-Haran Ministries
REFRESH-INTERVAL;VALUE=DURATION:PT1H
X-Robots-Tag:noindex
X-PUBLISHED-TTL:PT1H
BEGIN:VTIMEZONE
TZID:Africa/Johannesburg
BEGIN:STANDARD
TZOFFSETFROM:+0200
TZOFFSETTO:+0200
TZNAME:SAST
DTSTART:20250101T000000
END:STANDARD
END:VTIMEZONE
BEGIN:VEVENT
DTSTART;TZID=Africa/Johannesburg:20260904T183000
DTEND;TZID=Africa/Johannesburg:20260904T210000
DTSTAMP:20260419T223907
CREATED:20251211T090623Z
LAST-MODIFIED:20251211T141725Z
UID:10225-1788546600-1788555600@www.bethharan.co.za
SUMMARY:Soaking Session - 04 September 2026
DESCRIPTION:
URL:https://www.bethharan.co.za/event/soaking-session-04-september-2026/
LOCATION:Johannesburg\, Johannesburg\, South Africa
CATEGORIES:Upcoming Events
ORGANIZER;CN="Beth-Haran Ministries":MAILTO:houseofgrace@bethharan.co.za
END:VEVENT
BEGIN:VEVENT
DTSTART;TZID=Africa/Johannesburg:20260919T083000
DTEND;TZID=Africa/Johannesburg:20260919T160000
DTSTAMP:20260419T223907
CREATED:20250314T135037Z
LAST-MODIFIED:20260108T071142Z
UID:2438-1789806600-1789833600@www.bethharan.co.za
SUMMARY:Bible School 2026 - Month 10
DESCRIPTION:
URL:https://www.bethharan.co.za/event/bible-school-2026-month-10/
CATEGORIES:Upcoming Events
ATTACH;FMTTYPE=image/png:https://www.bethharan.co.za/wp-content/uploads/2025/03/Beth-Haran-Bible-School.png
ORGANIZER;CN="Beth-Haran Ministries":MAILTO:houseofgrace@bethharan.co.za
END:VEVENT
BEGIN:VEVENT
DTSTART;TZID=Africa/Johannesburg:20260924T180000
DTEND;TZID=Africa/Johannesburg:20260927T140000
DTSTAMP:20260419T223907
CREATED:20251211T091511Z
LAST-MODIFIED:20251211T091845Z
UID:10229-1790272800-1790517600@www.bethharan.co.za
SUMMARY:SOZO 2026
DESCRIPTION:
URL:https://www.bethharan.co.za/event/sozo-2026/
LOCATION:DGFC Cape Town\, 4 Bella Rosa Street\, Cape Town\, Western Cape\, 7550\, South Africa
CATEGORIES:Upcoming Events
END:VEVENT
END:VCALENDAR