BEGIN:VCALENDAR
VERSION:2.0
PRODID:-//Beth-Haran Ministries - ECPv6.15.20//NONSGML v1.0//EN
CALSCALE:GREGORIAN
METHOD:PUBLISH
X-WR-CALNAME:Beth-Haran Ministries
X-ORIGINAL-URL:https://www.bethharan.co.za
X-WR-CALDESC:Events for Beth-Haran Ministries
REFRESH-INTERVAL;VALUE=DURATION:PT1H
X-Robots-Tag:noindex
X-PUBLISHED-TTL:PT1H
BEGIN:VTIMEZONE
TZID:Africa/Johannesburg
BEGIN:STANDARD
TZOFFSETFROM:+0200
TZOFFSETTO:+0200
TZNAME:SAST
DTSTART:20250101T000000
END:STANDARD
END:VTIMEZONE
BEGIN:VEVENT
DTSTART;TZID=Africa/Johannesburg:20260718T100000
DTEND;TZID=Africa/Johannesburg:20260718T170000
DTSTAMP:20260419T191022
CREATED:20260209T081913Z
LAST-MODIFIED:20260322T074110Z
UID:11430-1784368800-1784394000@www.bethharan.co.za
SUMMARY:Tabernacle of Moses - Tierpoort
DESCRIPTION:
URL:https://www.bethharan.co.za/event/tabernacle-of-moses-tierpoort/
LOCATION:The Tabernacle\, 25 M6\, Tieerpoort\, 0056\, South Africa
CATEGORIES:Upcoming Events
ATTACH;FMTTYPE=image/jpeg:https://www.bethharan.co.za/wp-content/uploads/2026/02/Tabernacle-Tour.jpeg
ORGANIZER;CN="Beth-Haran Ministries":MAILTO:houseofgrace@bethharan.co.za
END:VEVENT
BEGIN:VEVENT
DTSTART;TZID=Africa/Johannesburg:20260725T083000
DTEND;TZID=Africa/Johannesburg:20260725T160000
DTSTAMP:20260419T191022
CREATED:20250314T134317Z
LAST-MODIFIED:20260108T070906Z
UID:2432-1784968200-1784995200@www.bethharan.co.za
SUMMARY:Bible School 2026 - Month 7
DESCRIPTION:
URL:https://www.bethharan.co.za/event/bible-school-2026-month-7/
CATEGORIES:Upcoming Events
ATTACH;FMTTYPE=image/png:https://www.bethharan.co.za/wp-content/uploads/2025/03/Beth-Haran-Bible-School.png
ORGANIZER;CN="Beth-Haran Ministries":MAILTO:houseofgrace@bethharan.co.za
END:VEVENT
END:VCALENDAR