BEGIN:VCALENDAR
VERSION:2.0
PRODID:-//Beth-Haran Ministries - ECPv6.15.20//NONSGML v1.0//EN
CALSCALE:GREGORIAN
METHOD:PUBLISH
X-WR-CALNAME:Beth-Haran Ministries
X-ORIGINAL-URL:https://www.bethharan.co.za
X-WR-CALDESC:Events for Beth-Haran Ministries
REFRESH-INTERVAL;VALUE=DURATION:PT1H
X-Robots-Tag:noindex
X-PUBLISHED-TTL:PT1H
BEGIN:VTIMEZONE
TZID:Africa/Johannesburg
BEGIN:STANDARD
TZOFFSETFROM:+0200
TZOFFSETTO:+0200
TZNAME:SAST
DTSTART:20250101T000000
END:STANDARD
END:VTIMEZONE
BEGIN:VEVENT
DTSTART;TZID=Africa/Johannesburg:20260114T190000
DTEND;TZID=Africa/Johannesburg:20260114T210000
DTSTAMP:20260419T190903
CREATED:20251203T115608Z
LAST-MODIFIED:20251211T142029Z
UID:9842-1768417200-1768424400@www.bethharan.co.za
SUMMARY:Cell Group 2026
DESCRIPTION:
URL:https://www.bethharan.co.za/event/cell-group-2026/
LOCATION:Johannesburg\, Johannesburg\, South Africa
CATEGORIES:Upcoming Events
ATTACH;FMTTYPE=image/jpeg:https://www.bethharan.co.za/wp-content/uploads/2025/12/Cell-Group-Advert.jpg
ORGANIZER;CN="Beth-Haran Ministries":MAILTO:houseofgrace@bethharan.co.za
END:VEVENT
BEGIN:VEVENT
DTSTART;TZID=Africa/Johannesburg:20260124T083000
DTEND;TZID=Africa/Johannesburg:20260124T160000
DTSTAMP:20260419T190903
CREATED:20250314T133330Z
LAST-MODIFIED:20260108T065813Z
UID:2419-1769243400-1769270400@www.bethharan.co.za
SUMMARY:Bible School 2026 - Month 1
DESCRIPTION:
URL:https://www.bethharan.co.za/event/bible-school-2026-month-1/
CATEGORIES:Upcoming Events
ATTACH;FMTTYPE=image/png:https://www.bethharan.co.za/wp-content/uploads/2025/03/Beth-Haran-Bible-School.png
ORGANIZER;CN="Beth-Haran Ministries":MAILTO:houseofgrace@bethharan.co.za
END:VEVENT
END:VCALENDAR